BEGIN:VCALENDAR
VERSION:2.0
PRODID:-//hacksw/handcal//NONSGML v1.0//EN
BEGIN:VEVENT
UID:8a326cf2d39ef93736cde3eceb291255
DTSTAMP:20260421T134717Z

DTSTART:20230504T110000
DTEND:20230507T170000
SUMMARY:2023 BC Boat Show, Sidney, BC
DESCRIPTION:The BC Boat Show, proudly hosted by the British Columbia Yacht Brokers Association (BCYBA), will be held this year at the Port of Sidney Marina in Sidney, BC.\n\nThis is the largest in-the-water boat show on the west coast, and the show is an opportunity for people to tour the boats of their dreams, explore the latest yachts - both new and used - and delight in many fascinating demonstrations at beautiful Port Sidney Marina. There are usually around 200 boats of all sizes in the water, as well as many marine related business displays featuring everything from boat yard services, hardware, equipment, navigation, electronics, clothing, etc. Audience members can discuss the many features of the boats on display with knowledgeable and professionally certified yacht brokers. Sales often occur right at the show, as the brokers are usually prepared to offer special pricing for an at-the-show sale. All boats at the show are for sale!\n\nEveryone is welcome and children are encouraged to attend, free of charge, with their parents.\n\nThe BC Boat Show runs from Thursday, May 4 to Sunday, May 7, 2023\nThursday, May 4, 11:00 AM - 6:00 PM\nFriday, May 5,      11:00 AM - 6:00 PM\nSaturday, May 6,  10:00 AM - 6:00 PM\nSunday, May 7,    10:00 AM - 5:00 PM\n\nTickets\nAdult One-day ticket                  $13 advance - $15 at the gate\nSenior/Student One-day ticket  $11 advance - $13 at the gate\nChild under 16 One-day ticket   Free - when accompanied by an adult\nAll Access Pass (four-day pass) $30 - only available online!\n\nParking\nFree parking is available at the Mary Winspear Centre located at 2243 Beacon Avenue, with a FREE shuttle bus running continuously between the Mary Winspear Centre and the BC Boat Show at Port Sidney Marina during show hours. In addition, street parking in downtown Sidney is easy to find and free and as well there are additional affordable pay parking lot options.\n\nFood and Drinks\nThe crew at Port Sidney Marina will be on the primary dock, offering snacks and beverages for sale. Additionally, attendees can board the tall ship Providence and enjoy a free ice cream treat!\n\nCome check it out and maybe you will find the boat of your dreams!

X-ALT-DESC;FMTTYPE=text/html:<!DOCTYPE HTML PUBLIC "-//W3C//DTD HTML 3.2//EN">\n<HTML>\n<HEAD>\n<META NAME="Generator" CONTENT="MS Exchange Server version 08.00.0681.000">\n<TITLE></TITLE>\n</HEAD>\n<BODY>\n<!-- Converted from text/rtf format -->\n\nThe BC Boat Show, proudly hosted by the British Columbia Yacht Brokers Association (BCYBA), will be held this year at the Port of Sidney Marina in Sidney, BC.<br /><br />This is the largest in-the-water boat show on the west coast, and the show is an opportunity for people to tour the boats of their dreams, explore the latest yachts - both new and used - and delight in many fascinating demonstrations at beautiful Port Sidney Marina. There are usually around 200 boats of all sizes in the water, as well as many marine related business displays featuring everything from boat yard services, hardware, equipment, navigation, electronics, clothing, etc. Audience members can discuss the many features of the boats on display with knowledgeable and professionally certified yacht brokers. Sales often occur right at the show, as the brokers are usually prepared to offer special pricing for an at-the-show sale. All boats at the show are for sale!<br /><br />Everyone is welcome and children are encouraged to attend, free of charge, with their parents.<br /><br />The BC Boat Show runs from Thursday, May 4 to Sunday, May 7, 2023<br />Thursday, May 4, 11:00 AM - 6:00 PM<br />Friday, May 5,      11:00 AM - 6:00 PM<br />Saturday, May 6,  10:00 AM - 6:00 PM<br />Sunday, May 7,    10:00 AM - 5:00 PM<br /><br />Tickets<br />Adult One-day ticket                  $13 advance - $15 at the gate<br />Senior/Student One-day ticket  $11 advance - $13 at the gate<br />Child under 16 One-day ticket   Free - when accompanied by an adult<br />All Access Pass (four-day pass) $30 - only available online!<br /><br />Parking<br />Free parking is available at the Mary Winspear Centre located at 2243 Beacon Avenue, with a FREE shuttle bus running continuously between the Mary Winspear Centre and the BC Boat Show at Port Sidney Marina during show hours. In addition, street parking in downtown Sidney is easy to find and free and as well there are additional affordable pay parking lot options.<br /><br />Food and Drinks<br />The crew at Port Sidney Marina will be on the primary dock, offering snacks and beverages for sale. Additionally, attendees can board the tall ship Providence and enjoy a free ice cream treat!<br /><br />Come check it out and maybe you will find the boat of your dreams!\n\n</BODY>\n</HTML>

LOCATION:9835 Seaport Pl, Sidney, BC V8L 4X3, Canada
END:VEVENT

END:VCALENDAR
