BEGIN:VCALENDAR
VERSION:2.0
PRODID:-//hacksw/handcal//NONSGML v1.0//EN
BEGIN:VEVENT
UID:a7558711e9de345e844dc4fa932a4337
DTSTAMP:20260421T212249Z

DTSTART:20230520T080000
DTEND:20230521T173000
SUMMARY:2023 Highland Games & Celtic Festival, Victoria BC
DESCRIPTION:The 160th Victoria Highland Games & Celtic Festival is taking place on May 20-21, 2023, at Topaz Park in Victoria, BC.\n\nThis is the longest continually running Highland Games in North America! \n\nThe Victoria Highland Games & Celtic Festival is a family-focused weekend of Scottish and Celtic arts and culture including pipe band competitions, Scottish Highland dancing competitions, Heavy Events (e.g. caber toss, hammer throw), Scottish Highland country dancing, fiddling performances, Scottish/Celtic and folk music bands, Scottish Clan and genealogy booths and displays, historic military demonstrations and displays, and of course, Scottish/Celtic food and merchandise vendors. There is a large FREE children's entertainment area.\n\nAdditionally, for adults 19 and over there is a Single Malt Whisky School and a Wine Tasting School. Try Lighthouse Brewing Company's Highland Challenge Ale, brewed specially for the Games and watch the various activities with a pint in hand!\n\nPurchase tickets early and save! \nDiscounted tickets are available online through Eventbrite or available for purchase at the Strathcona Liquor Store (919 Douglas Street). Tickets are available at the Games gates (cash only but ATMS are present). Children under 12 receive FREE admission!  $17.31 (Senior 65+/Youth 12-18) $22.63 (Adult), there are also some options for a 2-day weekend pass.

X-ALT-DESC;FMTTYPE=text/html:<!DOCTYPE HTML PUBLIC "-//W3C//DTD HTML 3.2//EN">\n<HTML>\n<HEAD>\n<META NAME="Generator" CONTENT="MS Exchange Server version 08.00.0681.000">\n<TITLE></TITLE>\n</HEAD>\n<BODY>\n<!-- Converted from text/rtf format -->\n\nThe 160th Victoria Highland Games & Celtic Festival is taking place on May 20-21, 2023, at Topaz Park in Victoria, BC.<br /><br />This is the longest continually running Highland Games in North America! <br /><br />The Victoria Highland Games & Celtic Festival is a family-focused weekend of Scottish and Celtic arts and culture including pipe band competitions, Scottish Highland dancing competitions, Heavy Events (e.g. caber toss, hammer throw), Scottish Highland country dancing, fiddling performances, Scottish/Celtic and folk music bands, Scottish Clan and genealogy booths and displays, historic military demonstrations and displays, and of course, Scottish/Celtic food and merchandise vendors. There is a large FREE children's entertainment area.<br /><br />Additionally, for adults 19 and over there is a Single Malt Whisky School and a Wine Tasting School. Try Lighthouse Brewing Company's Highland Challenge Ale, brewed specially for the Games and watch the various activities with a pint in hand!<br /><br />Purchase tickets early and save! <br />Discounted tickets are available online through Eventbrite or available for purchase at the Strathcona Liquor Store (919 Douglas Street). Tickets are available at the Games gates (cash only but ATMS are present). Children under 12 receive FREE admission!  $17.31 (Senior 65+/Youth 12-18) $22.63 (Adult), there are also some options for a 2-day weekend pass.\n\n</BODY>\n</HTML>

LOCATION:Topaz Park, Topaz Ave & Finlayson Street & Blanshard Street, Victoria, BC V8T, Canada
END:VEVENT

END:VCALENDAR
