BEGIN:VCALENDAR
VERSION:2.0
PRODID:-//hacksw/handcal//NONSGML v1.0//EN
BEGIN:VEVENT
UID:b8c27393f7fa2d31f23bef071b50cb51
DTSTAMP:20260423T223555Z

DTSTART:20230505T190000
DTEND:20230513T220000
SUMMARY:Victoria Beer Week (VBW) 2023 Victoria BC
DESCRIPTION:The Annual Victoria Beer Week (VBW) Returns!\n\nVictoria Beer week runs May 5 to May 13, 2023, and will showcase BC craft breweries in unique event settings all across Greater Victoria. With a focus on education and diverse craft beer selection, VBW 2023 will feature over 50 BC craft breweries at fun new events throughout the city.\n\nTICKETS may be purchased for each event from the website. Individual event prices range between $30 to $45, and this does not taxes and service fees.\n\nPLEASE NOTE: This event is 19+ and two pieces of ID are required.\n\nTicket prices includes beer tokens and event souvenir tasting cups. Food options are available at each event.\n\nSchedule of Events\n\nFriday, May 5\nLift off\nLocation: Market Square (560 Johnson St., Victoria BC)\nTime: 7:00 PM to 10:00 PM\nKick off Victoria Beer Week at this special launch event where you can be the first to taste at least a dozen new beers from some of BC's best breweries.\n\nSaturday, May 6\nSour Power\nLocation: Victoria Edelweiss Club (108 Niagara St., Victoria, BC)\nTime: 7:00 PM to 11:00 PM\nA 70s themed sour beer disco party. Come to jive, stay for the brewskis.\n\nWednesday, May 10\nBeer & Pizza\nLocation: Driftwood Brewery (836 Viewfield Rd., Victoria BC) \nTime: 5:00 PM to 8:00 PM\nEnjoy four custom created pizza slices from Bicycle Pizza, each inspired by and paired perfectly with a craft beer.\n\nThursday, May 11\nDown Unda\nLocation: The Esquimalt Gorge Park Pavilion (1070 Tillicum Rd., Victoria, BC)\nTime: 6:00 PM to 9:00 PM\nEnjoy a cold bevvy with your mates from Down Unda. These brews are known for the unique variety of hops from Australia and New Zealand. SaltChuck Pies will be on site with delicious hot, savoury pies made in the Australian/New Zealand tradition.\n\nFriday, May 12\nDubbel Down\nLocation: Victoria Public Market (1701 Douglas St., Victoria BC)\nTime: 7:30 PM to 10:30 PM\nThis event will showcase a smorgasbord of Belgian beer styles along with delectable Belgian-inspired cuisine from vendors at the Victoria Public Market.\n\nalso,\n\nFridays at the Station\nFriday May 12 to May 23\nLocation: 720 Station Avenue, Langford BC\nTime: 2:00 PM to 8:00 PM\nFridays at The Station is an ongoing pop-up summer series produced by The Victoria Beer Society and proudly supported by the City of Langford.\nThis series kicks off during Beer Week with special live music, food trucks and local businesses and art studios. This is a FREE event!\n\nSaturday, May 13\nTouchdown!\nLocation: Victoria Press Building (2621 Douglas St., Victoria, BC)\nTime: 7:00 PM to 10:00 PM\nA celebratory culmination of a week well done and an opportunity to rejoice and toast the week of events. Touchdown will recap the fan favourite beers from each event so you can try the best new beers, sours, Belgian brews, New Zealand pils, southern hemisphere hops, and seltzers! A finale event with something for everyone!\n\n\n\n\n\n\n\n\n\n

X-ALT-DESC;FMTTYPE=text/html:<!DOCTYPE HTML PUBLIC "-//W3C//DTD HTML 3.2//EN">\n<HTML>\n<HEAD>\n<META NAME="Generator" CONTENT="MS Exchange Server version 08.00.0681.000">\n<TITLE></TITLE>\n</HEAD>\n<BODY>\n<!-- Converted from text/rtf format -->\n\nThe Annual Victoria Beer Week (VBW) Returns!<br /><br />Victoria Beer week runs May 5 to May 13, 2023, and will showcase BC craft breweries in unique event settings all across Greater Victoria. With a focus on education and diverse craft beer selection, VBW 2023 will feature over 50 BC craft breweries at fun new events throughout the city.<br /><br />TICKETS may be purchased for each event from the website. Individual event prices range between $30 to $45, and this does not taxes and service fees.<br /><br />PLEASE NOTE: This event is 19+ and two pieces of ID are required.<br /><br />Ticket prices includes beer tokens and event souvenir tasting cups. Food options are available at each event.<br /><br />Schedule of Events<br /><br />Friday, May 5<br />Lift off<br />Location: Market Square (560 Johnson St., Victoria BC)<br />Time: 7:00 PM to 10:00 PM<br />Kick off Victoria Beer Week at this special launch event where you can be the first to taste at least a dozen new beers from some of BC's best breweries.<br /><br />Saturday, May 6<br />Sour Power<br />Location: Victoria Edelweiss Club (108 Niagara St., Victoria, BC)<br />Time: 7:00 PM to 11:00 PM<br />A 70s themed sour beer disco party. Come to jive, stay for the brewskis.<br /><br />Wednesday, May 10<br />Beer & Pizza<br />Location: Driftwood Brewery (836 Viewfield Rd., Victoria BC) <br />Time: 5:00 PM to 8:00 PM<br />Enjoy four custom created pizza slices from Bicycle Pizza, each inspired by and paired perfectly with a craft beer.<br /><br />Thursday, May 11<br />Down Unda<br />Location: The Esquimalt Gorge Park Pavilion (1070 Tillicum Rd., Victoria, BC)<br />Time: 6:00 PM to 9:00 PM<br />Enjoy a cold bevvy with your mates from Down Unda. These brews are known for the unique variety of hops from Australia and New Zealand. SaltChuck Pies will be on site with delicious hot, savoury pies made in the Australian/New Zealand tradition.<br /><br />Friday, May 12<br />Dubbel Down<br />Location: Victoria Public Market (1701 Douglas St., Victoria BC)<br />Time: 7:30 PM to 10:30 PM<br />This event will showcase a smorgasbord of Belgian beer styles along with delectable Belgian-inspired cuisine from vendors at the Victoria Public Market.<br /><br />also,<br /><br />Fridays at the Station<br />Friday May 12 to May 23<br />Location: 720 Station Avenue, Langford BC<br />Time: 2:00 PM to 8:00 PM<br />Fridays at The Station is an ongoing pop-up summer series produced by The Victoria Beer Society and proudly supported by the City of Langford.<br />This series kicks off during Beer Week with special live music, food trucks and local businesses and art studios. This is a FREE event!<br /><br />Saturday, May 13<br />Touchdown!<br />Location: Victoria Press Building (2621 Douglas St., Victoria, BC)<br />Time: 7:00 PM to 10:00 PM<br />A celebratory culmination of a week well done and an opportunity to rejoice and toast the week of events. Touchdown will recap the fan favourite beers from each event so you can try the best new beers, sours, Belgian brews, New Zealand pils, southern hemisphere hops, and seltzers! A finale event with something for everyone!<br /><br /><br /><br /><br /><br /><br /><br /><br /><br />\n\n</BODY>\n</HTML>

LOCATION:560 Johnson St, Victoria, BC V8W 3C6, Canada
END:VEVENT

END:VCALENDAR
