BEGIN:VCALENDAR
VERSION:2.0
PRODID:-//hacksw/handcal//NONSGML v1.0//EN
BEGIN:VEVENT
UID:0f26d1de9aee90a1ae6031a0f258bcff
DTSTAMP:20260422T043911Z

DTSTART:20230415T110000
DTEND:20230415T150000
SUMMARY:Songkran Market in Toronto, ON
DESCRIPTION:Explore the wonders and flavours of Thailand at this one-day-only Thai pop-up market inside one of Toronto’s beloved restaurants this month.\n\nPAI will transform into a special Thai market that is inspired by those found on the streets of Thailand – Songkran Market. Join them on Saturday, April 15, and enjoy an afternoon of shopping from the best local vendors and trying some delicious Songkran treats from the PAI kitchen.\n\nYou can expect to find local artisans and retailers selling vintage clothing, jewellery, handmade soaps, candles, caricature drawings, and more. As for the food, expect to find Jackfruit Salad, Yum Kanom Jin (Rice Noodle Salad), Khao Kha Moo (Braised Pork Hock on Rice), Khao Mun Gai (Thai-Style Chicken Rice), and Papaya Salad.\n\nAlong with that, check out the exciting display of Thailand’s national sport, Muay Thai boxing, demonstrated by Canada’s first Muay Thai school Siam No.1. Looking for something a little more relaxing? Experience a traditional Thai massage at the pop up too!

X-ALT-DESC;FMTTYPE=text/html:<!DOCTYPE HTML PUBLIC "-//W3C//DTD HTML 3.2//EN">\n<HTML>\n<HEAD>\n<META NAME="Generator" CONTENT="MS Exchange Server version 08.00.0681.000">\n<TITLE></TITLE>\n</HEAD>\n<BODY>\n<!-- Converted from text/rtf format -->\n\nExplore the wonders and flavours of Thailand at this one-day-only Thai pop-up market inside one of Toronto’s beloved restaurants this month.<br /><br />PAI will transform into a special Thai market that is inspired by those found on the streets of Thailand – Songkran Market. Join them on Saturday, April 15, and enjoy an afternoon of shopping from the best local vendors and trying some delicious Songkran treats from the PAI kitchen.<br /><br />You can expect to find local artisans and retailers selling vintage clothing, jewellery, handmade soaps, candles, caricature drawings, and more. As for the food, expect to find Jackfruit Salad, Yum Kanom Jin (Rice Noodle Salad), Khao Kha Moo (Braised Pork Hock on Rice), Khao Mun Gai (Thai-Style Chicken Rice), and Papaya Salad.<br /><br />Along with that, check out the exciting display of Thailand’s national sport, Muay Thai boxing, demonstrated by Canada’s first Muay Thai school Siam No.1. Looking for something a little more relaxing? Experience a traditional Thai massage at the pop up too!\n\n</BODY>\n</HTML>

LOCATION:Duncan St, Toronto, ON, Canada
END:VEVENT

END:VCALENDAR
