BEGIN:VCALENDAR
VERSION:2.0
PRODID:-//hacksw/handcal//NONSGML v1.0//EN
BEGIN:VEVENT
UID:4064939ec2125faf32015d9da6c11a85
DTSTAMP:20260420T092819Z

DTSTART:20230331T160000
DTEND:20230409T160000
SUMMARY:Brant Wildlife Festival
DESCRIPTION:2023 Oceanside Brant Wildlife Festival\nParksville and Qualicum Beach, Vancouver Island\nMarch 31st - April 9th, 2023\n\nCome celebrate nature and spring migration at the 32nd Annual Brant Wildlife Festival!  In particular, this is a celebration of Brant Geese, which stop in great numbers to rest and refuel on the shores of Parksville and Qualicum Beach on Vancouver Island during their spring migration from Mexico to Alaska.  Together, Parksville and Qualicum Beach comprise the Brant Capital of Canada!\n\nThis festival presents educational and entertaining events highlighting the biodiversity that exists on this part of Vancouver Island.  Check out a long lineup of exciting events being held at various locations in and around Parksville and Qualicum Beach, including film night, a woodworking and art show, a seafood demonstration and tour, basic bird ID and birdwatching tours, and much, much more!\n\nThere is something for everyone at the Brant Wildlife Festival, so bring the whole family!\n

X-ALT-DESC;FMTTYPE=text/html:<!DOCTYPE HTML PUBLIC "-//W3C//DTD HTML 3.2//EN">\n<HTML>\n<HEAD>\n<META NAME="Generator" CONTENT="MS Exchange Server version 08.00.0681.000">\n<TITLE></TITLE>\n</HEAD>\n<BODY>\n<!-- Converted from text/rtf format -->\n\n2023 Oceanside Brant Wildlife Festival<br />Parksville and Qualicum Beach, Vancouver Island<br />March 31st - April 9th, 2023<br /><br />Come celebrate nature and spring migration at the 32nd Annual Brant Wildlife Festival!  In particular, this is a celebration of Brant Geese, which stop in great numbers to rest and refuel on the shores of Parksville and Qualicum Beach on Vancouver Island during their spring migration from Mexico to Alaska.  Together, Parksville and Qualicum Beach comprise the Brant Capital of Canada!<br /><br />This festival presents educational and entertaining events highlighting the biodiversity that exists on this part of Vancouver Island.  Check out a long lineup of exciting events being held at various locations in and around Parksville and Qualicum Beach, including film night, a woodworking and art show, a seafood demonstration and tour, basic bird ID and birdwatching tours, and much, much more!<br /><br />There is something for everyone at the Brant Wildlife Festival, so bring the whole family!<br />\n\n</BODY>\n</HTML>

LOCATION:Parksville, BC, Canada
END:VEVENT

END:VCALENDAR
