BEGIN:VCALENDAR
VERSION:2.0
PRODID:-//hacksw/handcal//NONSGML v1.0//EN
BEGIN:VEVENT
UID:ff880d3d6ecc6c96495142234c0c0c59
DTSTAMP:20260421T044146Z

DTSTART:20230524T130000
DTEND:20230528T130000
SUMMARY:Songs Stages and Seafood Festival Newfoundland 
DESCRIPTION:The Songs Stages and Seafood Festival is held annually in Bay Roberts, Newfoundland and Labrador, Canada.  This May festival showcases the culture and food of the province.  A “five-day journey of discovery, designed to appeal to your senses of smell, sound, touch, and of course taste.” This is the ultimate foodie festival.  Meals are prepared by local award winning chefs with fresh locally sourced ingredients. \n\nThis years festival events such as a salmon dinner, community breakfast, NL fish cake championship, a culinary workshop, small plates evening and “Newfoundland Night” at the Bay Arena.  Event tickets can be purchased through the festival website and ticket prices vary for each event. 

X-ALT-DESC;FMTTYPE=text/html:<!DOCTYPE HTML PUBLIC "-//W3C//DTD HTML 3.2//EN">\n<HTML>\n<HEAD>\n<META NAME="Generator" CONTENT="MS Exchange Server version 08.00.0681.000">\n<TITLE></TITLE>\n</HEAD>\n<BODY>\n<!-- Converted from text/rtf format -->\n\nThe Songs Stages and Seafood Festival is held annually in Bay Roberts, Newfoundland and Labrador, Canada.  This May festival showcases the culture and food of the province.  A “five-day journey of discovery, designed to appeal to your senses of smell, sound, touch, and of course taste.” This is the ultimate foodie festival.  Meals are prepared by local award winning chefs with fresh locally sourced ingredients. <br /><br />This years festival events such as a salmon dinner, community breakfast, NL fish cake championship, a culinary workshop, small plates evening and “Newfoundland Night” at the Bay Arena.  Event tickets can be purchased through the festival website and ticket prices vary for each event. \n\n</BODY>\n</HTML>

LOCATION:Bay Roberts, NL, Canada
END:VEVENT

END:VCALENDAR
