BEGIN:VCALENDAR
VERSION:2.0
PRODID:-//hacksw/handcal//NONSGML v1.0//EN
BEGIN:VEVENT
UID:a5dbb33d8229869bc717f15c2b82f8c5
DTSTAMP:20260421T213620Z

DTSTART:20230415T090000
DTEND:20230416T150000
SUMMARY:Ultimate Toy Fair Victoria BC
DESCRIPTION:15 Years of Toy Fair Excitement! From new to vintage Barbies, Comics, Hot Wheels, and More!\nRun by Cherry Bomb Toys, this bi-annual show has been a labor of love with each toy fair getting bigger and better, established in 2008 it has helped raise over $55,000 for local charities such as the Multiple Sclerosis Society of Canada and BC Children's Hospital.\n\nNew and Old Toys * Speical Guests * Over 200 Tables!\n\nCome in Cosplay\nCome in costume for an extra chance to win one of the fabulous Door Prizes drawn every half hour!\n\nTICKETS\nTickets are Available at the Door - Cash Only\n$5 each day

X-ALT-DESC;FMTTYPE=text/html:<!DOCTYPE HTML PUBLIC "-//W3C//DTD HTML 3.2//EN">\n<HTML>\n<HEAD>\n<META NAME="Generator" CONTENT="MS Exchange Server version 08.00.0681.000">\n<TITLE></TITLE>\n</HEAD>\n<BODY>\n<!-- Converted from text/rtf format -->\n\n15 Years of Toy Fair Excitement! From new to vintage Barbies, Comics, Hot Wheels, and More!<br />Run by Cherry Bomb Toys, this bi-annual show has been a labor of love with each toy fair getting bigger and better, established in 2008 it has helped raise over $55,000 for local charities such as the Multiple Sclerosis Society of Canada and BC Children's Hospital.<br /><br />New and Old Toys * Speical Guests * Over 200 Tables!<br /><br />Come in Cosplay<br />Come in costume for an extra chance to win one of the fabulous Door Prizes drawn every half hour!<br /><br />TICKETS<br />Tickets are Available at the Door - Cash Only<br />$5 each day\n\n</BODY>\n</HTML>

LOCATION:3100 Tillicum Rd, Victoria, BC V9A, Canada
END:VEVENT

END:VCALENDAR
