BEGIN:VCALENDAR
VERSION:2.0
PRODID:-//hacksw/handcal//NONSGML v1.0//EN
BEGIN:VEVENT
UID:12a172e600db1d8dee0dace8d30a5f7b
DTSTAMP:20260425T212653Z

DTSTART:20230415T100000
DTEND:20230416T140000
SUMMARY:St. John’s Farmers Market Newfoundland -Earth Day Market 2023
DESCRIPTION:With International Earth Day on April 22, 2023, The St. John’s Farmers Market is having a market to highlight all the vendors and organizations doing great things to reduce the impact on our planet.  Vendors include eco-friendly, natural, sustainable, vintage, thrifted, upcycled goods and repurposed items. \n\nVendors are asked to consider the environmental impact through the life cycle of their products, including production of the materials, types of packaging, shipping distances, lifespan/use of the product and its disposal. 

X-ALT-DESC;FMTTYPE=text/html:<!DOCTYPE HTML PUBLIC "-//W3C//DTD HTML 3.2//EN">\n<HTML>\n<HEAD>\n<META NAME="Generator" CONTENT="MS Exchange Server version 08.00.0681.000">\n<TITLE></TITLE>\n</HEAD>\n<BODY>\n<!-- Converted from text/rtf format -->\n\nWith International Earth Day on April 22, 2023, The St. John’s Farmers Market is having a market to highlight all the vendors and organizations doing great things to reduce the impact on our planet.  Vendors include eco-friendly, natural, sustainable, vintage, thrifted, upcycled goods and repurposed items. <br /><br />Vendors are asked to consider the environmental impact through the life cycle of their products, including production of the materials, types of packaging, shipping distances, lifespan/use of the product and its disposal. \n\n</BODY>\n</HTML>

LOCATION:St. John's, NL, Canada
END:VEVENT

END:VCALENDAR
