BEGIN:VCALENDAR
VERSION:2.0
PRODID:-//hacksw/handcal//NONSGML v1.0//EN
BEGIN:VEVENT
UID:0bb8c7f7df083bc2adb5672aeedf1a39
DTSTAMP:20260425T022543Z

DTSTART:20230324T163000
DTEND:20230326T150000
SUMMARY:Ziigwan: an Indigenous Music and Arts Festival in Toronto, ON
DESCRIPTION:From March 24 - 26, 2023, Yonge-Dundas Square will transform into an Indigenous music and art hub with some of the country’s most prominent and emerging Indigenous artists taking the stage for THREE straight days of free concerts. \n\nZiigwan, pronounced as (“SEE-gwon”) is the Anishnaabemowin word for springtime which celebrates the healing and learning power of music and art, the rebirth of spring, and the collective awakening as we walk together on the path toward reconciliation.\n\nIf you are looking for something to do with friends and families, or showing visitors around town, arts and music are always a way to make the mind wander.\n\nStarting Friday, March 24 at 4:30PM (and throughout the weekend), vendors will be on-site serving up food, beadwork, clothing, books and more! Since Sunday is Family Day at Ziigwan, GoodMinds Indigenous Books will sell a variety of books catered to children and youth, and the Strong Water Singers will facilitate learning activities so children and families can engage in meaningful conversations about Indigenous cultures. \n\nIf you are looking for something to do with friends and families, or impressing visitors in town, arts and music are always a way to make your mind wander. 

X-ALT-DESC;FMTTYPE=text/html:<!DOCTYPE HTML PUBLIC "-//W3C//DTD HTML 3.2//EN">\n<HTML>\n<HEAD>\n<META NAME="Generator" CONTENT="MS Exchange Server version 08.00.0681.000">\n<TITLE></TITLE>\n</HEAD>\n<BODY>\n<!-- Converted from text/rtf format -->\n\nFrom March 24 - 26, 2023, Yonge-Dundas Square will transform into an Indigenous music and art hub with some of the country’s most prominent and emerging Indigenous artists taking the stage for THREE straight days of free concerts. <br /><br />Ziigwan, pronounced as (“SEE-gwon”) is the Anishnaabemowin word for springtime which celebrates the healing and learning power of music and art, the rebirth of spring, and the collective awakening as we walk together on the path toward reconciliation.<br /><br />If you are looking for something to do with friends and families, or showing visitors around town, arts and music are always a way to make the mind wander.<br /><br />Starting Friday, March 24 at 4:30PM (and throughout the weekend), vendors will be on-site serving up food, beadwork, clothing, books and more! Since Sunday is Family Day at Ziigwan, GoodMinds Indigenous Books will sell a variety of books catered to children and youth, and the Strong Water Singers will facilitate learning activities so children and families can engage in meaningful conversations about Indigenous cultures. <br /><br />If you are looking for something to do with friends and families, or impressing visitors in town, arts and music are always a way to make your mind wander. \n\n</BODY>\n</HTML>

LOCATION:Yonge St & Dundas St E, Toronto, ON M5B, Canada
END:VEVENT

END:VCALENDAR
