BEGIN:VCALENDAR
VERSION:2.0
PRODID:-//hacksw/handcal//NONSGML v1.0//EN
BEGIN:VEVENT
UID:13becb1aaf89e22cd47d935aa676f810
DTSTAMP:20260420T112112Z

DTSTART:20230324T190000
DTEND:20230325T213000
SUMMARY:RockFest in Toronto, Ontario
DESCRIPTION:The Beaches International Jazz Festival presents ROCKFEST! Celebrating all things that Rock. \n\nJoin us at the Guildwood GO Station Main Parking Lot for 2 days of amazing tributes to the world's best rock bands. Best of all, admission is FREE!\n\nBring your vehicle or take the Bus, Train, Streetcar or Subway. Bring your friends, a chair and your will to Rock! There will be plenty of parking and space to take it all in.\n\nRockFest 2023 Line-up:\n\nFriday March 24\n7:00 PM\nAeroforce (Tribute to Aerosmith)\n8:30 PM\nThe AC/DC Show - Canada\n\nSaturday March 25\n2:00 PM\nReckless Bryan (Tribute to Bryan Adams)\n4:00 PM\nFloydium (Tribute to Pink Floyd)\n5:30 PM\nMonkey Wrench (Tribute to the Foo Fighters)\n7:00 PM\nPearl Jamming (Tribute to Pearl Jam)\n8:30 PM\nSheer Heart Attack (Tribute to Queen)\n\nSee you at the show!

X-ALT-DESC;FMTTYPE=text/html:<!DOCTYPE HTML PUBLIC "-//W3C//DTD HTML 3.2//EN">\n<HTML>\n<HEAD>\n<META NAME="Generator" CONTENT="MS Exchange Server version 08.00.0681.000">\n<TITLE></TITLE>\n</HEAD>\n<BODY>\n<!-- Converted from text/rtf format -->\n\nThe Beaches International Jazz Festival presents ROCKFEST! Celebrating all things that Rock. <br /><br />Join us at the Guildwood GO Station Main Parking Lot for 2 days of amazing tributes to the world's best rock bands. Best of all, admission is FREE!<br /><br />Bring your vehicle or take the Bus, Train, Streetcar or Subway. Bring your friends, a chair and your will to Rock! There will be plenty of parking and space to take it all in.<br /><br />RockFest 2023 Line-up:<br /><br />Friday March 24<br />7:00 PM<br />Aeroforce (Tribute to Aerosmith)<br />8:30 PM<br />The AC/DC Show - Canada<br /><br />Saturday March 25<br />2:00 PM<br />Reckless Bryan (Tribute to Bryan Adams)<br />4:00 PM<br />Floydium (Tribute to Pink Floyd)<br />5:30 PM<br />Monkey Wrench (Tribute to the Foo Fighters)<br />7:00 PM<br />Pearl Jamming (Tribute to Pearl Jam)<br />8:30 PM<br />Sheer Heart Attack (Tribute to Queen)<br /><br />See you at the show!\n\n</BODY>\n</HTML>

LOCATION:4105 Kingston Rd, Scarborough, ON M1E 2M3, Canada
END:VEVENT

END:VCALENDAR
