BEGIN:VCALENDAR
VERSION:2.0
PRODID:-//hacksw/handcal//NONSGML v1.0//EN
BEGIN:VEVENT
UID:a6d4f164d10a583f444500c2a16ca67d
DTSTAMP:20260420T230707Z

DTSTART:20230402T063000
DTEND:20230402T063000
SUMMARY:The Newfoundland Embassy Pub Hot Dog Eating Competition in Support of Bridges to Hope Food Aid Centre
DESCRIPTION:The Newfoundland Embassy Pub is hosting it’s first annual Hot Dog Eating Competition on April 2, 2023 in support of the Bridges to Hope Food Aid Centre.  \nHow to enter? Swing down to the pub at 79 New Gower Street, St. John’s, Newfoundland and Labrador, Canada (Downtown St. John’s). \nThere is a waiver that is required to be signed and a 25$ cash entry fee. The event is sponsored by Lamb’s Newfoundland, Corby Spirit and Wine, Quidi Vidi Brewery and Bidgood’s Supermarket & Liquor Store.  \nCome on out to the pub and support a great cause, have lots of fun with the guys down at The Newfoundland Embassy in Support of the Bridges to Hope Food Aid Centre and help fight hunger in our city. 

X-ALT-DESC;FMTTYPE=text/html:<!DOCTYPE HTML PUBLIC "-//W3C//DTD HTML 3.2//EN">\n<HTML>\n<HEAD>\n<META NAME="Generator" CONTENT="MS Exchange Server version 08.00.0681.000">\n<TITLE></TITLE>\n</HEAD>\n<BODY>\n<!-- Converted from text/rtf format -->\n\nThe Newfoundland Embassy Pub is hosting it’s first annual Hot Dog Eating Competition on April 2, 2023 in support of the Bridges to Hope Food Aid Centre.  <br />How to enter? Swing down to the pub at 79 New Gower Street, St. John’s, Newfoundland and Labrador, Canada (Downtown St. John’s). <br />There is a waiver that is required to be signed and a 25$ cash entry fee. The event is sponsored by Lamb’s Newfoundland, Corby Spirit and Wine, Quidi Vidi Brewery and Bidgood’s Supermarket & Liquor Store.  <br />Come on out to the pub and support a great cause, have lots of fun with the guys down at The Newfoundland Embassy in Support of the Bridges to Hope Food Aid Centre and help fight hunger in our city. \n\n</BODY>\n</HTML>

LOCATION:New Gower St, St. John's, NL, Canada
END:VEVENT

END:VCALENDAR
