BEGIN:VCALENDAR
VERSION:2.0
PRODID:-//hacksw/handcal//NONSGML v1.0//EN
BEGIN:VEVENT
UID:94cfd8ff471aaf612715801b3334cd9b
DTSTAMP:20260425T121231Z

DTSTART:20230610T110000
DTEND:20230610T220000
SUMMARY:Lakeshore Village Grilled Cheese Challenge Festival in Toronto, ON
DESCRIPTION:Calling all cheese lovers! The ultimate grilled cheese festival is coming to Toronto this spring for one day only. Not only will there be mouthwatering eats, live music, and entertainment, but there’s also a chance to win “The Best Grilled Cheese” award.\n\nThe Lakeshore Village Grilled Cheese Challenge Festival welcomes all to join in the festivities on June 10.\n\nEat, drink, sing, dance, and enjoy all things grilled cheese.\n\nBut the day isn’t complete without the beloved grilled cheese competition. Participants will compete for the judge’s prize of “Best Grilled Cheese” and the People’s Choice Awards.\n\nYou can also vote for your favourites in three different categories: Best Tasting, Most Unique, and Best Gourmet.\n\nThis is a one-day-only event and you don’t want to miss it!

X-ALT-DESC;FMTTYPE=text/html:<!DOCTYPE HTML PUBLIC "-//W3C//DTD HTML 3.2//EN">\n<HTML>\n<HEAD>\n<META NAME="Generator" CONTENT="MS Exchange Server version 08.00.0681.000">\n<TITLE></TITLE>\n</HEAD>\n<BODY>\n<!-- Converted from text/rtf format -->\n\nCalling all cheese lovers! The ultimate grilled cheese festival is coming to Toronto this spring for one day only. Not only will there be mouthwatering eats, live music, and entertainment, but there’s also a chance to win “The Best Grilled Cheese” award.<br /><br />The Lakeshore Village Grilled Cheese Challenge Festival welcomes all to join in the festivities on June 10.<br /><br />Eat, drink, sing, dance, and enjoy all things grilled cheese.<br /><br />But the day isn’t complete without the beloved grilled cheese competition. Participants will compete for the judge’s prize of “Best Grilled Cheese” and the People’s Choice Awards.<br /><br />You can also vote for your favourites in three different categories: Best Tasting, Most Unique, and Best Gourmet.<br /><br />This is a one-day-only event and you don’t want to miss it!\n\n</BODY>\n</HTML>

LOCATION:Islington Ave & Lake Shore Blvd W, Toronto, ON M8V 1J4, Canada
END:VEVENT

END:VCALENDAR
