BEGIN:VCALENDAR
VERSION:2.0
PRODID:-//hacksw/handcal//NONSGML v1.0//EN
BEGIN:VEVENT
UID:10c19ffe602fdca16afb82d2eeae256f
DTSTAMP:20260425T112014Z

DTSTART:20230312T110000
DTEND:20230312T200000
SUMMARY:Asian Food Battle 2023 Japan vs Taiwan in Toronto, Canada
DESCRIPTION:Three Headed Dragon Inc. is hosting the Asian Food Battle 2023 is a friendly cross-cultural street food competition between Japanese and Taiwanese street foods. Participants with regular admission ticket will receive 6 battle food samples and choose the winning dishes in each category (noodle, savory dish and sweets). You will have cultural street food and drinks, a fashion show with Kimono and Cosplay, children’s Japanese/Taiwanese festival games, merchandise vendors and much more.\n\nAll of the foods and drinks are $6 or under!\n\nThere will be a Cosplay/Kimono contest so please wear your favorite costume or Kimono and join us in the Asian Food Battle 2023!\n\nGet your tickets at www.showpass.com/asian-food-battle-2023

X-ALT-DESC;FMTTYPE=text/html:<!DOCTYPE HTML PUBLIC "-//W3C//DTD HTML 3.2//EN">\n<HTML>\n<HEAD>\n<META NAME="Generator" CONTENT="MS Exchange Server version 08.00.0681.000">\n<TITLE></TITLE>\n</HEAD>\n<BODY>\n<!-- Converted from text/rtf format -->\n\nThree Headed Dragon Inc. is hosting the Asian Food Battle 2023 is a friendly cross-cultural street food competition between Japanese and Taiwanese street foods. Participants with regular admission ticket will receive 6 battle food samples and choose the winning dishes in each category (noodle, savory dish and sweets). You will have cultural street food and drinks, a fashion show with Kimono and Cosplay, children’s Japanese/Taiwanese festival games, merchandise vendors and much more.<br /><br />All of the foods and drinks are $6 or under!<br /><br />There will be a Cosplay/Kimono contest so please wear your favorite costume or Kimono and join us in the Asian Food Battle 2023!<br /><br />Get your tickets at www.showpass.com/asian-food-battle-2023\n\n</BODY>\n</HTML>

LOCATION:6 Garamond Ct, North York, ON M3C 1Z5, Canada
END:VEVENT

END:VCALENDAR
