BEGIN:VCALENDAR
VERSION:2.0
PRODID:-//hacksw/handcal//NONSGML v1.0//EN
BEGIN:VEVENT
UID:7510e7b4b7070d4939853fcef4d0081e
DTSTAMP:20260419T135213Z

DTSTART:20230311T120000
DTEND:20230318T120000
SUMMARY:St Patrick's Day CelticFest and Parade in Vancouver BC
DESCRIPTION:For one of the newest celebrations in North America, spend St. Patrick's Day in Vancouver BC for CelticFest.\n\nWhat this festival doesn't have in history it makes up for in fun and you are invited to join the party. The celebrations may not have been officially organized until the 21st century, but the Irish pubs of Vancouver succeeded in providing great atmosphere throughout the years. Vancouver is quickly becoming one of the best places to celebrate Ireland's national holiday.\n\nCelticFest Vancouver is happening from March 11 to18 and includes a free all-ages outdoor public festival in šxʷƛ̓ənəq Xwtl’e7énḵ Square north of the Vancouver Art Gallery during the weekend. The festival provides unique opportunities to combine entertainment with learning about the Celtic culture. There will be dance, theater, spoken word, music, crafts, and even sports. On the weekend there will be live performances on two stages, a curated marketplace, a family zone, a photo booth, food trucks, a beer tent, and more! In fact, there will be more than 60 performances and events held during the festival with 70 per cent of these events being FREE.\n\nAnd then there is the\n\n2023 Vancouver St Patrick's Day Parade takes place the Sunday closest to March 17. Beginning at 11:30 AM, the procession will travel from Georgia Street to Broughton Street to Howe Street. The parade is organized by the nonprofit organization that oversees Celtic Fest and features floats, music, and dance. The entire festival is run and organized by volunteers.\n

X-ALT-DESC;FMTTYPE=text/html:<!DOCTYPE HTML PUBLIC "-//W3C//DTD HTML 3.2//EN">\n<HTML>\n<HEAD>\n<META NAME="Generator" CONTENT="MS Exchange Server version 08.00.0681.000">\n<TITLE></TITLE>\n</HEAD>\n<BODY>\n<!-- Converted from text/rtf format -->\n\nFor one of the newest celebrations in North America, spend St. Patrick's Day in Vancouver BC for CelticFest.<br /><br />What this festival doesn't have in history it makes up for in fun and you are invited to join the party. The celebrations may not have been officially organized until the 21st century, but the Irish pubs of Vancouver succeeded in providing great atmosphere throughout the years. Vancouver is quickly becoming one of the best places to celebrate Ireland's national holiday.<br /><br />CelticFest Vancouver is happening from March 11 to18 and includes a free all-ages outdoor public festival in šxʷƛ̓ənəq Xwtl’e7énḵ Square north of the Vancouver Art Gallery during the weekend. The festival provides unique opportunities to combine entertainment with learning about the Celtic culture. There will be dance, theater, spoken word, music, crafts, and even sports. On the weekend there will be live performances on two stages, a curated marketplace, a family zone, a photo booth, food trucks, a beer tent, and more! In fact, there will be more than 60 performances and events held during the festival with 70 per cent of these events being FREE.<br /><br />And then there is the<br /><br />2023 Vancouver St Patrick's Day Parade takes place the Sunday closest to March 17. Beginning at 11:30 AM, the procession will travel from Georgia Street to Broughton Street to Howe Street. The parade is organized by the nonprofit organization that oversees Celtic Fest and features floats, music, and dance. The entire festival is run and organized by volunteers.<br />\n\n</BODY>\n</HTML>

LOCATION:W Georgia St, Vancouver, BC, Canada
END:VEVENT

END:VCALENDAR
