BEGIN:VCALENDAR
VERSION:2.0
PRODID:-//hacksw/handcal//NONSGML v1.0//EN
BEGIN:VEVENT
UID:9a87186f12c53f2284dd5a18da036031
DTSTAMP:20260422T215735Z

DTSTART:20230219T000000
DTEND:20230411T235959
SUMMARY:Winterlit - Mountsberg Conservation Area, ON - 19.02.2023
DESCRIPTION:Take an enchanting evening stroll through the twinkling lights in the forest at Mountsberg Conservation Area for Winterlit. Located in Campbellville, ON, only 45 mins to an hour's drive West of Toronto.\n\n'Winterlit is all about reconnecting with yourself, family, and friends in the beauty of nature.'\n\nPurchase tickets in advance * 2-hour time slots from 5:30-8:30 pm * Thursday through Sunday\n\nAdd-ons:\nCookie Baking @ the Discovery Centre * $12.00 for 6 cookies\nGuided Owl Prowls - Jan 6 & 7, Jan 13 & 14, Feb 3 & 4 at 6, 7:30 &  9:00 pm $6.50 per person *No Dogs\n\nHow far is the trail? approximately 2km of illuminated trails\nAre dogs allowed? Yes, on a leash\nParking is included\n\n\n

X-ALT-DESC;FMTTYPE=text/html:<!DOCTYPE HTML PUBLIC "-//W3C//DTD HTML 3.2//EN">\n<HTML>\n<HEAD>\n<META NAME="Generator" CONTENT="MS Exchange Server version 08.00.0681.000">\n<TITLE></TITLE>\n</HEAD>\n<BODY>\n<!-- Converted from text/rtf format -->\n\nTake an enchanting evening stroll through the twinkling lights in the forest at Mountsberg Conservation Area for Winterlit. Located in Campbellville, ON, only 45 mins to an hour's drive West of Toronto.<br /><br />'Winterlit is all about reconnecting with yourself, family, and friends in the beauty of nature.'<br /><br />Purchase tickets in advance * 2-hour time slots from 5:30-8:30 pm * Thursday through Sunday<br /><br />Add-ons:<br />Cookie Baking @ the Discovery Centre * $12.00 for 6 cookies<br />Guided Owl Prowls - Jan 6 & 7, Jan 13 & 14, Feb 3 & 4 at 6, 7:30 &  9:00 pm $6.50 per person *No Dogs<br /><br />How far is the trail? approximately 2km of illuminated trails<br />Are dogs allowed? Yes, on a leash<br />Parking is included<br /><br /><br />\n\n</BODY>\n</HTML>

LOCATION:Mountsberg Conservation Area - Reservations Required, 2259 Milburough Town Line, Campbellville, ON L0P 1B0, Canada
END:VEVENT

END:VCALENDAR
