BEGIN:VCALENDAR
VERSION:2.0
PRODID:-//hacksw/handcal//NONSGML v1.0//EN
BEGIN:VEVENT
UID:6d3e31ad073e05f84a2109f427c1b8c2
DTSTAMP:20260425T032556Z

DTSTART:20230421T130000
DTEND:20230423T160000
SUMMARY:Victoria Outdoor Adventure Show Victoria BC
DESCRIPTION:INTRODUCING Victoria BC's FIRST ANNUAL Outdoor Adventure Show! The newest, largest and most diverse of its kind in the Greater Victoria area, will excite your interests in everything the great outdoors have to offer.\n\nThere's sure to be something for everyone! Featuring over 35,000 square feet, there will be RV's, Power sports, Fishing, Bikes, Hunting, Boats, Roof-top Tents, Adventure Sports, Water Sports, Camping, Survival, E-Bikes and more!\n\nThere will be a great line-up of demos and awesome door prizes free to enter for just walking through the door!\n\nMore details to come!\n\nTICKETS - $5.00 at the door *Cash or CARD* (Under 18 - free with adult). This may be subject to change.\n\nA portion of all ticket proceeds will be donated to the Nature Trust of British Columbia for their initiatives.

X-ALT-DESC;FMTTYPE=text/html:<!DOCTYPE HTML PUBLIC "-//W3C//DTD HTML 3.2//EN">\n<HTML>\n<HEAD>\n<META NAME="Generator" CONTENT="MS Exchange Server version 08.00.0681.000">\n<TITLE></TITLE>\n</HEAD>\n<BODY>\n<!-- Converted from text/rtf format -->\n\nINTRODUCING Victoria BC's FIRST ANNUAL Outdoor Adventure Show! The newest, largest and most diverse of its kind in the Greater Victoria area, will excite your interests in everything the great outdoors have to offer.<br /><br />There's sure to be something for everyone! Featuring over 35,000 square feet, there will be RV's, Power sports, Fishing, Bikes, Hunting, Boats, Roof-top Tents, Adventure Sports, Water Sports, Camping, Survival, E-Bikes and more!<br /><br />There will be a great line-up of demos and awesome door prizes free to enter for just walking through the door!<br /><br />More details to come!<br /><br />TICKETS - $5.00 at the door *Cash or CARD* (Under 18 - free with adult). This may be subject to change.<br /><br />A portion of all ticket proceeds will be donated to the Nature Trust of British Columbia for their initiatives.\n\n</BODY>\n</HTML>

LOCATION:1767 Island Hwy, Victoria, BC V9B 1J1, Canada
END:VEVENT

END:VCALENDAR
