BEGIN:VCALENDAR
VERSION:2.0
PRODID:-//hacksw/handcal//NONSGML v1.0//EN
BEGIN:VEVENT
UID:11bf4bacf6c83d11264097410b361e3c
DTSTAMP:20260422T150552Z

DTSTART:20230225T203000
DTEND:20230225T203000
SUMMARY:Black History Month Concert Series in Toronto, ON
DESCRIPTION:Celebrating the African Canadian community in Toronto featuring the artists who represented Toronto at AFROFEST Africa 2022 in Tanzania featuring: \n\n-﻿ Abeena Samm (Guyana)\n\n- Amanie Illfated (South Sudan)\n\n-﻿ DOLOTHEGIFTED (Angola)\n\n-﻿ Temi (Nigeria)\n\nAFROFEST is the largest free festival in North America. Their aim is to promote African music and culture in Toronto by organizing cultural events which showcase the beauty and diversity of African culture. \n\nTickets are free, with donations welcomed. \n\nhttps://www.eventbrite.ca/e/black-history-month-concert-series-tickets-522967228057

X-ALT-DESC;FMTTYPE=text/html:<!DOCTYPE HTML PUBLIC "-//W3C//DTD HTML 3.2//EN">\n<HTML>\n<HEAD>\n<META NAME="Generator" CONTENT="MS Exchange Server version 08.00.0681.000">\n<TITLE></TITLE>\n</HEAD>\n<BODY>\n<!-- Converted from text/rtf format -->\n\nCelebrating the African Canadian community in Toronto featuring the artists who represented Toronto at AFROFEST Africa 2022 in Tanzania featuring: <br /><br />-﻿ Abeena Samm (Guyana)<br /><br />- Amanie Illfated (South Sudan)<br /><br />-﻿ DOLOTHEGIFTED (Angola)<br /><br />-﻿ Temi (Nigeria)<br /><br />AFROFEST is the largest free festival in North America. Their aim is to promote African music and culture in Toronto by organizing cultural events which showcase the beauty and diversity of African culture. <br /><br />Tickets are free, with donations welcomed. <br /><br />https://www.eventbrite.ca/e/black-history-month-concert-series-tickets-522967228057\n\n</BODY>\n</HTML>

LOCATION:1000 Finch Ave W, North York, ON M3J 2V5, Canada
END:VEVENT

END:VCALENDAR
