BEGIN:VCALENDAR
VERSION:2.0
PRODID:-//hacksw/handcal//NONSGML v1.0//EN
BEGIN:VEVENT
UID:c70787e314eb89e0764a900103e32336
DTSTAMP:20260425T135912Z

DTSTART:20230314T093000
DTEND:20230406T133000
SUMMARY:Purple Woods Maple Syrup Festival 2023, Oshawa, Ontario - 14.03.2023
DESCRIPTION:Purple Woods Maple Syrup Festival in Oshawa, Ontario invites you to come experience Maple Syrup making in the sugarbush. \nWatch as sap gathered from hundreds of sugar maples is boiled on-site to make your favorite sweet treat, Maple Syrup.\nEnjoy pancakes with real Maple Syrup, games, and lots of activities.\nBe sure to check out the cool Heritage Store where you can get lots of sweet Maple Syrup treats to take home.\nAdmission is $8.00 and available on-line\nChildren 2 & under are free\n\nMarch 10 to 12 | 9:30 a.m.-2:30 p.m\n\nMarch 15-17 | 9:30 a.m.-2:30 p.m\n\nMarch 18-19 | 9:30 a.m.-2:30 p.m\n\nMarch 25-26 | 9:30 a.m.-2:30 p.m\n\nApril 1-2 | 9:30 a.m.-2:30 p.m

X-ALT-DESC;FMTTYPE=text/html:<!DOCTYPE HTML PUBLIC "-//W3C//DTD HTML 3.2//EN">\n<HTML>\n<HEAD>\n<META NAME="Generator" CONTENT="MS Exchange Server version 08.00.0681.000">\n<TITLE></TITLE>\n</HEAD>\n<BODY>\n<!-- Converted from text/rtf format -->\n\nPurple Woods Maple Syrup Festival in Oshawa, Ontario invites you to come experience Maple Syrup making in the sugarbush. <br />Watch as sap gathered from hundreds of sugar maples is boiled on-site to make your favorite sweet treat, Maple Syrup.<br />Enjoy pancakes with real Maple Syrup, games, and lots of activities.<br />Be sure to check out the cool Heritage Store where you can get lots of sweet Maple Syrup treats to take home.<br />Admission is $8.00 and available on-line<br />Children 2 & under are free<br /><br />March 10 to 12 | 9:30 a.m.-2:30 p.m<br /><br />March 15-17 | 9:30 a.m.-2:30 p.m<br /><br />March 18-19 | 9:30 a.m.-2:30 p.m<br /><br />March 25-26 | 9:30 a.m.-2:30 p.m<br /><br />April 1-2 | 9:30 a.m.-2:30 p.m\n\n</BODY>\n</HTML>

LOCATION:Purple Woods Conservation Area, 38 Coates Rd E, Oshawa, ON L1H 7K4, Canada
END:VEVENT

END:VCALENDAR
