BEGIN:VCALENDAR
VERSION:2.0
PRODID:-//hacksw/handcal//NONSGML v1.0//EN
BEGIN:VEVENT
UID:c9f5f77822208214a1be617d26f529e1
DTSTAMP:20260425T165904Z

DTSTART:20230217T110000
DTEND:20230224T180000
SUMMARY:Wintershines, Saskatoon, Saskatchewan
DESCRIPTION:Saskatoon, Saskatchewan is a Winter City and boy do they know how to have fun in the snow!\nA week of fun outdoor activities, amazing snow sculptures, and live entertainment will be a fun winter outing for the entire family!\nSleigh Rides and even a Soup-Off where Saskatoon Chefs put their best soup forward!\n

X-ALT-DESC;FMTTYPE=text/html:<!DOCTYPE HTML PUBLIC "-//W3C//DTD HTML 3.2//EN">\n<HTML>\n<HEAD>\n<META NAME="Generator" CONTENT="MS Exchange Server version 08.00.0681.000">\n<TITLE></TITLE>\n</HEAD>\n<BODY>\n<!-- Converted from text/rtf format -->\n\nSaskatoon, Saskatchewan is a Winter City and boy do they know how to have fun in the snow!<br />A week of fun outdoor activities, amazing snow sculptures, and live entertainment will be a fun winter outing for the entire family!<br />Sleigh Rides and even a Soup-Off where Saskatoon Chefs put their best soup forward!<br />\n\n</BODY>\n</HTML>

LOCATION:Sonnenschein Way, Saskatoon, SK S7M 1M8, Canada
END:VEVENT

END:VCALENDAR
