BEGIN:VCALENDAR
VERSION:2.0
PRODID:-//hacksw/handcal//NONSGML v1.0//EN
BEGIN:VEVENT
UID:0667d197e7728578541a0d8805490d56
DTSTAMP:20260419T160443Z

DTSTART:20230204T090000
DTEND:20230205T170000
SUMMARY:Hike Haliburton Festival, Haliburton, Ontario
DESCRIPTION:Come to the beautiful Haliburton Highlands and explore the trails during the snowy season. \nThere are several amazing hikes & snowshoeing opportunities for the whole family to enjoy.\nExperience the Arts, Culture & Heritage of the Haliburton Highlands.\nThere are lots of great events happening, and food experiences throughout the Hike Haliburton Festival.\nHike Registration opens January, 5th, 2023.\n\nMark your calendars and tell all your friends and family and we'll see you February 4th & 5th, 2023.\n

X-ALT-DESC;FMTTYPE=text/html:<!DOCTYPE HTML PUBLIC "-//W3C//DTD HTML 3.2//EN">\n<HTML>\n<HEAD>\n<META NAME="Generator" CONTENT="MS Exchange Server version 08.00.0681.000">\n<TITLE></TITLE>\n</HEAD>\n<BODY>\n<!-- Converted from text/rtf format -->\n\nCome to the beautiful Haliburton Highlands and explore the trails during the snowy season. <br />There are several amazing hikes & snowshoeing opportunities for the whole family to enjoy.<br />Experience the Arts, Culture & Heritage of the Haliburton Highlands.<br />There are lots of great events happening, and food experiences throughout the Hike Haliburton Festival.<br />Hike Registration opens January, 5th, 2023.<br /><br />Mark your calendars and tell all your friends and family and we'll see you February 4th & 5th, 2023.<br />\n\n</BODY>\n</HTML>

LOCATION:Haliburton, ON K0M 1S0, Canada
END:VEVENT

END:VCALENDAR
