BEGIN:VCALENDAR
VERSION:2.0
PRODID:-//hacksw/handcal//NONSGML v1.0//EN
BEGIN:VEVENT
UID:05c23d677a8c939a8a63c270f5683029
DTSTAMP:20260423T061445Z

DTSTART:20230107T100000
DTEND:20230107T110000
SUMMARY:Ruthven Park National Site Winter Bird Hike
DESCRIPTION:Take part in a winter bird count at Ruthven Park National Historic Site on Saturday, January 7th from 10 am - 11 am. Learn how to use binoculars, field guides, and free apps to identify common winter birds while exploring the beautiful forested property.  All data collected from this hike will contribute to the Winter Bird Count project that is taking place at the Ruthven Park National Historic Site from January 4-8, 2023.  Dress warmly, and come on out to see how many bird species you can count!

X-ALT-DESC;FMTTYPE=text/html:<!DOCTYPE HTML PUBLIC "-//W3C//DTD HTML 3.2//EN">\n<HTML>\n<HEAD>\n<META NAME="Generator" CONTENT="MS Exchange Server version 08.00.0681.000">\n<TITLE></TITLE>\n</HEAD>\n<BODY>\n<!-- Converted from text/rtf format -->\n\nTake part in a winter bird count at Ruthven Park National Historic Site on Saturday, January 7th from 10 am - 11 am. Learn how to use binoculars, field guides, and free apps to identify common winter birds while exploring the beautiful forested property.  All data collected from this hike will contribute to the Winter Bird Count project that is taking place at the Ruthven Park National Historic Site from January 4-8, 2023.  Dress warmly, and come on out to see how many bird species you can count!\n\n</BODY>\n</HTML>

LOCATION:Ruthven Park National Historic Site, 243 Haldimand Highway 54, Cayuga, ON N0A 1E0, Canada
END:VEVENT

END:VCALENDAR
