BEGIN:VCALENDAR
VERSION:2.0
PRODID:-//hacksw/handcal//NONSGML v1.0//EN
BEGIN:VEVENT
UID:9b8eb3e774fa42f1651c5092b9f271dd
DTSTAMP:20260420T084757Z

DTSTART:20230216T183000
DTEND:20230216T203000
SUMMARY:Bubbles for Lovers 2023
DESCRIPTION:"Flowers and chocolate are fine, but your partner deserves a little more." Market Wines\n\nTis the season of love! Show the Valentine’s spirit a little longer this year and join Market Wines in Calgary Alberta for a romantic sparkling wine tasting on Thursday February 16 at 6:30pm. Show your partner how much you really love them and treat them to an indulgent night of bubbles! Keep in mind, quality time is bubbly time.\n\nThis tasting also includes some delicious charcuterie from Soffritto. Please notify in advance if you have any allergies or dietary restrictions. \n\nTo ensure the tasting starts on time, please arrive a few minutes prior to the event. Free 3 hour customer parking is available in the underground parkade behind Save On foods.\n\nTickets are $55 each\n\nSafety is our #1 priority. Please ensure you plan for a safe ride home! \nDon't drink and drive.\n\nHappy Valentine's Day Calgary!\n\nAbout the organizer of Bubbles for Lovers- \n\nMarket Wines has been providing Calgarians with fabulous tastings for many years. We offer high quality events showcasing wines and beers you won't find anywhere else. Our events are creative and informative, but most imortantly, they're a lot of fun!\n

X-ALT-DESC;FMTTYPE=text/html:<!DOCTYPE HTML PUBLIC "-//W3C//DTD HTML 3.2//EN">\n<HTML>\n<HEAD>\n<META NAME="Generator" CONTENT="MS Exchange Server version 08.00.0681.000">\n<TITLE></TITLE>\n</HEAD>\n<BODY>\n<!-- Converted from text/rtf format -->\n\n"Flowers and chocolate are fine, but your partner deserves a little more." Market Wines<br /><br />Tis the season of love! Show the Valentine’s spirit a little longer this year and join Market Wines in Calgary Alberta for a romantic sparkling wine tasting on Thursday February 16 at 6:30pm. Show your partner how much you really love them and treat them to an indulgent night of bubbles! Keep in mind, quality time is bubbly time.<br /><br />This tasting also includes some delicious charcuterie from Soffritto. Please notify in advance if you have any allergies or dietary restrictions. <br /><br />To ensure the tasting starts on time, please arrive a few minutes prior to the event. Free 3 hour customer parking is available in the underground parkade behind Save On foods.<br /><br />Tickets are $55 each<br /><br />Safety is our #1 priority. Please ensure you plan for a safe ride home! <br />Don't drink and drive.<br /><br />Happy Valentine's Day Calgary!<br /><br />About the organizer of Bubbles for Lovers- <br /><br />Market Wines has been providing Calgarians with fabulous tastings for many years. We offer high quality events showcasing wines and beers you won't find anywhere else. Our events are creative and informative, but most imortantly, they're a lot of fun!<br />\n\n</BODY>\n</HTML>

LOCATION:4109 University Ave NW, Calgary, AB T3B, Canada
END:VEVENT

END:VCALENDAR
