BEGIN:VCALENDAR
VERSION:2.0
PRODID:-//hacksw/handcal//NONSGML v1.0//EN
BEGIN:VEVENT
UID:5494f7cca4106fc0137db376b091e15a
DTSTAMP:20260420T164033Z

DTSTART:20230125T193000
DTEND:20230125T213000
SUMMARY:International Guitar Night - Victoria, British Columbia
DESCRIPTION:INTERNATIONAL GUITAR NIGHT held in Victoria, British Columbia and presented by Faquhar Auditorium, University of Victoria.\n\nThis is the 23rd Anniversary North American Tour of International Guitar Night. This year's performance will feature:\n\nStephanie Jones - Chamber Musician and soloist\nJesuse Guerrero - Flamenco master from Spain\nJocelyn Gould - traditional Jazz Guitarist and Vocalist from Canada\nItamar Erez - World Musician and Composer from Israel \n\nTIME: 7:30 P.M\nLOCATION: Farquhar Auditorium, Jamie Cassels Centre, University of Victoria, Victoria, British Columbia\nPARKING: On Campus: www.uvic.ca/security/parking/rates/\nADMISSION: Students/Alumni: $28. General admission: $40\n\nFace coverings while optional are highly recommended.

X-ALT-DESC;FMTTYPE=text/html:<!DOCTYPE HTML PUBLIC "-//W3C//DTD HTML 3.2//EN">\n<HTML>\n<HEAD>\n<META NAME="Generator" CONTENT="MS Exchange Server version 08.00.0681.000">\n<TITLE></TITLE>\n</HEAD>\n<BODY>\n<!-- Converted from text/rtf format -->\n\nINTERNATIONAL GUITAR NIGHT held in Victoria, British Columbia and presented by Faquhar Auditorium, University of Victoria.<br /><br />This is the 23rd Anniversary North American Tour of International Guitar Night. This year's performance will feature:<br /><br />Stephanie Jones - Chamber Musician and soloist<br />Jesuse Guerrero - Flamenco master from Spain<br />Jocelyn Gould - traditional Jazz Guitarist and Vocalist from Canada<br />Itamar Erez - World Musician and Composer from Israel <br /><br />TIME: 7:30 P.M<br />LOCATION: Farquhar Auditorium, Jamie Cassels Centre, University of Victoria, Victoria, British Columbia<br />PARKING: On Campus: www.uvic.ca/security/parking/rates/<br />ADMISSION: Students/Alumni: $28. General admission: $40<br /><br />Face coverings while optional are highly recommended.\n\n</BODY>\n</HTML>

LOCATION:3800 Finnerty Rd, Victoria, BC V8P 5C2, Canada
END:VEVENT

END:VCALENDAR
