BEGIN:VCALENDAR
VERSION:2.0
PRODID:-//hacksw/handcal//NONSGML v1.0//EN
BEGIN:VEVENT
UID:9224eb63c646526abff677b9796b3c24
DTSTAMP:20260422T112629Z

DTSTART:20221218T110000
DTEND:20221218T150000
SUMMARY:Christmas at the Roundhouse in Toronto, ON
DESCRIPTION:Get a taste of Christmas cheer at the Roundhouse on December 18!\n\nOn December 18, join the Toronto Railway Museum at the Roundhouse Farmers’ Market to enjoy a set of Christmas performances that will brighten the hearts of young and old! Capture the moment with a Christmas picture with Santa, sip a festive drink, and visit the Toronto Railway Museum booth.\n\nGo further and stop by the Museum in Stall 17 of the Roundhouse, explore exhibits, create your own souvenir through our craft train activity, and climb aboard an 1896 wooden parlour car!\n\nThe new farmers’ market at the Roundhouse has all the best elements of an ageless market including seasonal farm goods and produce as well as a lot of creative ways to use them. Locally produced storage veg, meat, honey, pickles, Niagara sourdough breads and baking, pastured eggs and chicken, maple syrup, even ethically sourced fish shipped by rail from Nova Scotia and a different ethical crafter each week. Ontario’s food shed is rich and diverse so our market is too! There’s no two markets alike, just always lots of good food and variety in a gorgeous heritage building with good coffee and music and so much to see.

X-ALT-DESC;FMTTYPE=text/html:<!DOCTYPE HTML PUBLIC "-//W3C//DTD HTML 3.2//EN">\n<HTML>\n<HEAD>\n<META NAME="Generator" CONTENT="MS Exchange Server version 08.00.0681.000">\n<TITLE></TITLE>\n</HEAD>\n<BODY>\n<!-- Converted from text/rtf format -->\n\nGet a taste of Christmas cheer at the Roundhouse on December 18!<br /><br />On December 18, join the Toronto Railway Museum at the Roundhouse Farmers’ Market to enjoy a set of Christmas performances that will brighten the hearts of young and old! Capture the moment with a Christmas picture with Santa, sip a festive drink, and visit the Toronto Railway Museum booth.<br /><br />Go further and stop by the Museum in Stall 17 of the Roundhouse, explore exhibits, create your own souvenir through our craft train activity, and climb aboard an 1896 wooden parlour car!<br /><br />The new farmers’ market at the Roundhouse has all the best elements of an ageless market including seasonal farm goods and produce as well as a lot of creative ways to use them. Locally produced storage veg, meat, honey, pickles, Niagara sourdough breads and baking, pastured eggs and chicken, maple syrup, even ethically sourced fish shipped by rail from Nova Scotia and a different ethical crafter each week. Ontario’s food shed is rich and diverse so our market is too! There’s no two markets alike, just always lots of good food and variety in a gorgeous heritage building with good coffee and music and so much to see.\n\n</BODY>\n</HTML>

LOCATION:255 Bremner Blvd, Toronto, ON M5V 3M9, Canada
END:VEVENT

END:VCALENDAR
