BEGIN:VCALENDAR
VERSION:2.0
PRODID:-//hacksw/handcal//NONSGML v1.0//EN
BEGIN:VEVENT
UID:ced303f59c2397e73b0cb85172469e97
DTSTAMP:20260422T223350Z

DTSTART:20221217T120000
DTEND:20221217T180000
SUMMARY:Holiday Market in Toronto, ON
DESCRIPTION:Join us December 17th as we transform the Queen Street West Woolfitt Event Space (the previous home to Curry's Art Supplies at 1153 Queen St W)  into a massive Holiday Market shopping extravaganza! \n\nFind 100+ local artists and vendors selling awesome, one of kind goods including art, photography, wood work, jewellery, apparel, accessories, candles, fashion, sweet treats, bath and beauty, books - plus come enjoy delicious food, fresh coffee, mulled wine, an Indonesian lunch and a ton of sweet holiday treats.\nWe promise there is something for everyone on your Holiday shopping list. \n\nGet your free tickets now at https://www.eventbrite.ca/e/toronto-art-crawl-holiday-market-tickets-469872319757

X-ALT-DESC;FMTTYPE=text/html:<!DOCTYPE HTML PUBLIC "-//W3C//DTD HTML 3.2//EN">\n<HTML>\n<HEAD>\n<META NAME="Generator" CONTENT="MS Exchange Server version 08.00.0681.000">\n<TITLE></TITLE>\n</HEAD>\n<BODY>\n<!-- Converted from text/rtf format -->\n\nJoin us December 17th as we transform the Queen Street West Woolfitt Event Space (the previous home to Curry's Art Supplies at 1153 Queen St W)  into a massive Holiday Market shopping extravaganza! <br /><br />Find 100+ local artists and vendors selling awesome, one of kind goods including art, photography, wood work, jewellery, apparel, accessories, candles, fashion, sweet treats, bath and beauty, books - plus come enjoy delicious food, fresh coffee, mulled wine, an Indonesian lunch and a ton of sweet holiday treats.<br />We promise there is something for everyone on your Holiday shopping list. <br /><br />Get your free tickets now at https://www.eventbrite.ca/e/toronto-art-crawl-holiday-market-tickets-469872319757\n\n</BODY>\n</HTML>

LOCATION:1153 Queen St W, Toronto, ON M6J 1J4, Canada
END:VEVENT

END:VCALENDAR
