BEGIN:VCALENDAR
VERSION:2.0
PRODID:-//hacksw/handcal//NONSGML v1.0//EN
BEGIN:VEVENT
UID:50aa485f7a94c0abba80ad17be0189a8
DTSTAMP:20260419T173905Z

DTSTART:20230123T200000
DTEND:20230123T200000
SUMMARY:Gatsby House NYE Party Vancouver B C Canada 
DESCRIPTION:Join us for the ultimate shindig New Year's Eve Party in Vancouver and countdown to 2023 in style at the Gatsby's House Party inside the Vancouver Marriott Pinnacle Downtown Hotel! This party is for the Movers & the Shakers Only. But if this fits your fancy; then join us for the ultimate shindig New Year's Eve Party in Vancouver. Countdown to 2023 in style at the Gatsby's House Party inside the Vancouver Marriott Pinnacle Downtown Hotel!

X-ALT-DESC;FMTTYPE=text/html:<!DOCTYPE HTML PUBLIC "-//W3C//DTD HTML 3.2//EN">\n<HTML>\n<HEAD>\n<META NAME="Generator" CONTENT="MS Exchange Server version 08.00.0681.000">\n<TITLE></TITLE>\n</HEAD>\n<BODY>\n<!-- Converted from text/rtf format -->\n\nJoin us for the ultimate shindig New Year's Eve Party in Vancouver and countdown to 2023 in style at the Gatsby's House Party inside the Vancouver Marriott Pinnacle Downtown Hotel! This party is for the Movers & the Shakers Only. But if this fits your fancy; then join us for the ultimate shindig New Year's Eve Party in Vancouver. Countdown to 2023 in style at the Gatsby's House Party inside the Vancouver Marriott Pinnacle Downtown Hotel!\n\n</BODY>\n</HTML>

LOCATION:1128 W Hastings St, Vancouver, BC V6E 4R5, Canada
END:VEVENT

END:VCALENDAR
