BEGIN:VCALENDAR
VERSION:2.0
PRODID:-//hacksw/handcal//NONSGML v1.0//EN
BEGIN:VEVENT
UID:051c71e3fe31b7475faefab40185e538
DTSTAMP:20260421T100403Z

DTSTART:20221221T000000
DTEND:20221221T000000
SUMMARY:Share Joy - an immersive holiday experience, Mississauga ON - 21.12.2022
DESCRIPTION:Check out the Share Joy Immersive Holiday Experience, by Gay Lea.\nInnovative and interactive - fun for everyone!\n\nOn until December 22nd \nMon – Sat 10 am-9 pm * Sun 11 am-7 pm\n\nSquare One Shopping Centre – Level 2 (next to Genesis)\nMississauga, ON\n\nFREE - No tickets required

X-ALT-DESC;FMTTYPE=text/html:<!DOCTYPE HTML PUBLIC "-//W3C//DTD HTML 3.2//EN">\n<HTML>\n<HEAD>\n<META NAME="Generator" CONTENT="MS Exchange Server version 08.00.0681.000">\n<TITLE></TITLE>\n</HEAD>\n<BODY>\n<!-- Converted from text/rtf format -->\n\nCheck out the Share Joy Immersive Holiday Experience, by Gay Lea.<br />Innovative and interactive - fun for everyone!<br /><br />On until December 22nd <br />Mon – Sat 10 am-9 pm * Sun 11 am-7 pm<br /><br />Square One Shopping Centre – Level 2 (next to Genesis)<br />Mississauga, ON<br /><br />FREE - No tickets required\n\n</BODY>\n</HTML>

LOCATION:100 City Centre Dr, Mississauga, ON L5B 2C9, Canada
END:VEVENT

END:VCALENDAR
