BEGIN:VCALENDAR
VERSION:2.0
PRODID:-//hacksw/handcal//NONSGML v1.0//EN
BEGIN:VEVENT
UID:de4513fe84c4b4935b716b14b32951d2
DTSTAMP:20260421T141849Z

DTSTART:20221203T100000
DTEND:20221204T150000
SUMMARY:Paris Christmas Market 2022, Paris, Ontario
DESCRIPTION:The Paris Christmas Market is indoors at the Paris Fairgrounds and with over 105 unique vendors you are sure to find that perfect gift.\nGrab some perfect holiday sweets from 15 fantastic bakers for your holiday entertaining.\n\nHere are the details! \nDecember 3: 10am - 3pm \nDecember 4: 11am - 3pm \n\n$5 general admission (Cash Only) \n12 & under are FREE\n \nService dogs only allowed for this weekend 

X-ALT-DESC;FMTTYPE=text/html:<!DOCTYPE HTML PUBLIC "-//W3C//DTD HTML 3.2//EN">\n<HTML>\n<HEAD>\n<META NAME="Generator" CONTENT="MS Exchange Server version 08.00.0681.000">\n<TITLE></TITLE>\n</HEAD>\n<BODY>\n<!-- Converted from text/rtf format -->\n\nThe Paris Christmas Market is indoors at the Paris Fairgrounds and with over 105 unique vendors you are sure to find that perfect gift.<br />Grab some perfect holiday sweets from 15 fantastic bakers for your holiday entertaining.<br /><br />Here are the details! <br />December 3: 10am - 3pm <br />December 4: 11am - 3pm <br /><br />$5 general admission (Cash Only) <br />12 & under are FREE<br /> <br />Service dogs only allowed for this weekend \n\n</BODY>\n</HTML>

LOCATION:139 Silver St, Paris, ON N3L 1V5, Canada
END:VEVENT

END:VCALENDAR
