BEGIN:VCALENDAR
VERSION:2.0
PRODID:-//hacksw/handcal//NONSGML v1.0//EN
BEGIN:VEVENT
UID:a4c8f10d75bdd287d57106e604e6a8ff
DTSTAMP:20260421T071547Z

DTSTART:20221119T120000
DTEND:20221119T170000
SUMMARY:The Good Work Art Market in Toronto, ON
DESCRIPTION:Join us in celebrating the amazing work of Toronto’s accessible arts organizations and their talented creators at the Good Work Art Market — free entry! Dozens of creators will showcase and sell their unique works on Saturday, November 19, 2022, from 12-5 pm in the bright and beautiful AGO’s Weston Family Learning Centre (317 Dundas St W). Shop unique works from over 50 makers from various disciplines. Learn about how these non-profits use art to support people in finding purpose, pride, passion, joy, and healing. Participating artists and organizations keep 100% of their revenue. The Good Work Art Market aims to reduce barriers to participation by providing free space for artists and organizations to sell their work and meet new audiences.\n\nPresented by YWCA Toronto’s Inspirations Studio\n\nIn proud partnership with Art Heart, Creative Works Studio, Hard Feelings, Spun (Sistering), Workman Arts, and Youth Arcade Studio (The Neighborhood Group).

X-ALT-DESC;FMTTYPE=text/html:<!DOCTYPE HTML PUBLIC "-//W3C//DTD HTML 3.2//EN">\n<HTML>\n<HEAD>\n<META NAME="Generator" CONTENT="MS Exchange Server version 08.00.0681.000">\n<TITLE></TITLE>\n</HEAD>\n<BODY>\n<!-- Converted from text/rtf format -->\n\nJoin us in celebrating the amazing work of Toronto’s accessible arts organizations and their talented creators at the Good Work Art Market — free entry! Dozens of creators will showcase and sell their unique works on Saturday, November 19, 2022, from 12-5 pm in the bright and beautiful AGO’s Weston Family Learning Centre (317 Dundas St W). Shop unique works from over 50 makers from various disciplines. Learn about how these non-profits use art to support people in finding purpose, pride, passion, joy, and healing. Participating artists and organizations keep 100% of their revenue. The Good Work Art Market aims to reduce barriers to participation by providing free space for artists and organizations to sell their work and meet new audiences.<br /><br />Presented by YWCA Toronto’s Inspirations Studio<br /><br />In proud partnership with Art Heart, Creative Works Studio, Hard Feelings, Spun (Sistering), Workman Arts, and Youth Arcade Studio (The Neighborhood Group).\n\n</BODY>\n</HTML>

LOCATION:317 Dundas St W, Toronto, ON M5T 1G4, Canada
END:VEVENT

END:VCALENDAR
