BEGIN:VCALENDAR
VERSION:2.0
PRODID:-//hacksw/handcal//NONSGML v1.0//EN
BEGIN:VEVENT
UID:810516025c98b690fc9e900d7fc8173c
DTSTAMP:20260421T132709Z

DTSTART:20221203T170000
DTEND:20221203T180000
SUMMARY:Airdrie Santa Claus Parade 2022
DESCRIPTION:The 2022 Airdrie Santa Claus Parade is almost upon us! After a few years off, Airdrie is ready to light the night and ring in the holiday season with you!\nThis years theme is Holiday Spirit \nSaturday December 3 the parade starts at 5pm\n\n Starting at Fletcher Park (6th Avenue NW), and will proceed Southbound on Main Street to Ridgegate Blvd.\n\n\nJoin us for an evening of lights, laughter and a visit from the man in red himself

X-ALT-DESC;FMTTYPE=text/html:<!DOCTYPE HTML PUBLIC "-//W3C//DTD HTML 3.2//EN">\n<HTML>\n<HEAD>\n<META NAME="Generator" CONTENT="MS Exchange Server version 08.00.0681.000">\n<TITLE></TITLE>\n</HEAD>\n<BODY>\n<!-- Converted from text/rtf format -->\n\nThe 2022 Airdrie Santa Claus Parade is almost upon us! After a few years off, Airdrie is ready to light the night and ring in the holiday season with you!<br />This years theme is Holiday Spirit <br />Saturday December 3 the parade starts at 5pm<br /><br /> Starting at Fletcher Park (6th Avenue NW), and will proceed Southbound on Main Street to Ridgegate Blvd.<br /><br /><br />Join us for an evening of lights, laughter and a visit from the man in red himself\n\n</BODY>\n</HTML>

LOCATION:Fletcher Park, Unnamed Road, Airdrie, AB T4B 0R2, Canada
END:VEVENT

END:VCALENDAR
