BEGIN:VCALENDAR
VERSION:2.0
PRODID:-//hacksw/handcal//NONSGML v1.0//EN
BEGIN:VEVENT
UID:94417a2d464ba484df8bad605c77aafd
DTSTAMP:20260424T061132Z

DTSTART:20221127T130000
DTEND:20221127T130000
SUMMARY:Saskatoon Santa Claus Parade 2022
DESCRIPTION:Come together for the holidays at the 31st annual Saskatoon Santa Claus Parade!\n\nSunday, November 27, 2022 AT 1PM\n\nDowntown Saskatoon will come alive with the sights and sounds of Christmas as floats take to the festive music-filled streets. Together we can help the parade’s charity of choice Ronald McDonald House Charities Saskatchewan spread Christmas cheer to all.\n\nOur theme is “A Superheroes’ Christmas.” From Batman to Wonder Woman let’s bring our love for superheroes to this year’s parade!\n\nDress warm in layers, and comr find Santa!\n

X-ALT-DESC;FMTTYPE=text/html:<!DOCTYPE HTML PUBLIC "-//W3C//DTD HTML 3.2//EN">\n<HTML>\n<HEAD>\n<META NAME="Generator" CONTENT="MS Exchange Server version 08.00.0681.000">\n<TITLE></TITLE>\n</HEAD>\n<BODY>\n<!-- Converted from text/rtf format -->\n\nCome together for the holidays at the 31st annual Saskatoon Santa Claus Parade!<br /><br />Sunday, November 27, 2022 AT 1PM<br /><br />Downtown Saskatoon will come alive with the sights and sounds of Christmas as floats take to the festive music-filled streets. Together we can help the parade’s charity of choice Ronald McDonald House Charities Saskatchewan spread Christmas cheer to all.<br /><br />Our theme is “A Superheroes’ Christmas.” From Batman to Wonder Woman let’s bring our love for superheroes to this year’s parade!<br /><br />Dress warm in layers, and comr find Santa!<br />\n\n</BODY>\n</HTML>

LOCATION:242 3 Ave S, Saskatoon, SK S7K 1L9, Canada
END:VEVENT

END:VCALENDAR
