BEGIN:VCALENDAR
VERSION:2.0
PRODID:-//hacksw/handcal//NONSGML v1.0//EN
BEGIN:VEVENT
UID:295b62bd506649c9d4c26269e879c1a9
DTSTAMP:20260419T172428Z

DTSTART:20221231T173000
DTEND:20221231T220000
SUMMARY:BHP Enchanted Forest in Saskatoon  - 31.12.2022
DESCRIPTION:BHP ENCHANTED FOREST HOLIDAY DRIVE THROUGH LIGHT TOUR!!\n\nWelcome to the  BHP Enchanted Forest, a special holiday event of the Saskatoon Zoo Foundation and the City Hospital Foundation at the Saskatoon Forestry Farm Park. This unique partnership has provided the citizens of Saskatoon and visitors from throughout Saskatchewan and beyond with the spirit of the Holiday Season for 24 years. Saskatoon is proud of the BHP Enchanted Forest, one of the longest-running and best Christmas light shows in Canada.  The Foundations and our Sponsors invite you to enjoy the light show from the comfort and safety of your own vehicle again this special holiday season.\n\nThe first night of drive thru traffic will be Saturday, November 19th thru to Sunday, January 8th, 2023\nOpen every evening 5:30PM – 10:00PM\n\nDRIVE-THRU ADMISSION PRICES AT THE GATE\n$10 Per Person or $35 Per Car (Up to 7 people), 5 years or under Free. Cash is preferred at the Gate to speed up the admission process. However, Visa, Mastercard and Debit Cards will be accepted.\n\nTROLLEY BUS TOURS\nCome take a magical journey through the BHP Enchanted Forest with a beautiful Trolley tour bus! Lots of room, leather seating, a platform at the back, Christmas music, pop, water and even cookies and hot chocolate! Book Now at LivingSkiesLimousine.ca  Ask about our private tours in Lincoln Stretches, and Limousine Buses!

X-ALT-DESC;FMTTYPE=text/html:<!DOCTYPE HTML PUBLIC "-//W3C//DTD HTML 3.2//EN">\n<HTML>\n<HEAD>\n<META NAME="Generator" CONTENT="MS Exchange Server version 08.00.0681.000">\n<TITLE></TITLE>\n</HEAD>\n<BODY>\n<!-- Converted from text/rtf format -->\n\nBHP ENCHANTED FOREST HOLIDAY DRIVE THROUGH LIGHT TOUR!!<br /><br />Welcome to the  BHP Enchanted Forest, a special holiday event of the Saskatoon Zoo Foundation and the City Hospital Foundation at the Saskatoon Forestry Farm Park. This unique partnership has provided the citizens of Saskatoon and visitors from throughout Saskatchewan and beyond with the spirit of the Holiday Season for 24 years. Saskatoon is proud of the BHP Enchanted Forest, one of the longest-running and best Christmas light shows in Canada.  The Foundations and our Sponsors invite you to enjoy the light show from the comfort and safety of your own vehicle again this special holiday season.<br /><br />The first night of drive thru traffic will be Saturday, November 19th thru to Sunday, January 8th, 2023<br />Open every evening 5:30PM – 10:00PM<br /><br />DRIVE-THRU ADMISSION PRICES AT THE GATE<br />$10 Per Person or $35 Per Car (Up to 7 people), 5 years or under Free. Cash is preferred at the Gate to speed up the admission process. However, Visa, Mastercard and Debit Cards will be accepted.<br /><br />TROLLEY BUS TOURS<br />Come take a magical journey through the BHP Enchanted Forest with a beautiful Trolley tour bus! Lots of room, leather seating, a platform at the back, Christmas music, pop, water and even cookies and hot chocolate! Book Now at LivingSkiesLimousine.ca  Ask about our private tours in Lincoln Stretches, and Limousine Buses!\n\n</BODY>\n</HTML>

LOCATION:Saskatoon Forestry Farm Park & Zoo, 1903 Forestry Farm Park Dr, Saskatoon, SK S7S 1G9, Canada
END:VEVENT

END:VCALENDAR
