BEGIN:VCALENDAR
VERSION:2.0
PRODID:-//hacksw/handcal//NONSGML v1.0//EN
BEGIN:VEVENT
UID:432342c5101adfecdae1592ec89dcc87
DTSTAMP:20260424T075821Z

DTSTART:20221123T170000
DTEND:20221123T210000
SUMMARY:Zoolights - Adults Night Out at the Calgary Zoo
DESCRIPTION:Tis the season for an adult’s night out\n\nEnjoy a special ZOOLIGHTS evening for adults (18+) only! Enjoy all the magic of ZOOLIGHTS plus beverage samplings, hot food snacks, and additional activities. It’s a fun and festive way to make your spirits brighter – with an adult beverage in hand – while supporting the Wilder Institute/Calgary Zoo’s wildlife conservation efforts.\n\nEarly bird pricing: $69 + GST\nPricing after November 9, 2022 at 11:59 p.m.: $79 + GST (Engage and Inspire members maintain early bird pricing)\n\nAll guests must be 18+ years of age and will be ID'd at the gate before entrance as per our AGLC license – everyone will be checked.\n\n

X-ALT-DESC;FMTTYPE=text/html:<!DOCTYPE HTML PUBLIC "-//W3C//DTD HTML 3.2//EN">\n<HTML>\n<HEAD>\n<META NAME="Generator" CONTENT="MS Exchange Server version 08.00.0681.000">\n<TITLE></TITLE>\n</HEAD>\n<BODY>\n<!-- Converted from text/rtf format -->\n\nTis the season for an adult’s night out<br /><br />Enjoy a special ZOOLIGHTS evening for adults (18+) only! Enjoy all the magic of ZOOLIGHTS plus beverage samplings, hot food snacks, and additional activities. It’s a fun and festive way to make your spirits brighter – with an adult beverage in hand – while supporting the Wilder Institute/Calgary Zoo’s wildlife conservation efforts.<br /><br />Early bird pricing: $69 + GST<br />Pricing after November 9, 2022 at 11:59 p.m.: $79 + GST (Engage and Inspire members maintain early bird pricing)<br /><br />All guests must be 18+ years of age and will be ID'd at the gate before entrance as per our AGLC license – everyone will be checked.<br /><br />\n\n</BODY>\n</HTML>

LOCATION:210 St. George's Drive NE, Calgary, AB T2E 7V6, Canada
END:VEVENT

END:VCALENDAR
