BEGIN:VCALENDAR
VERSION:2.0
PRODID:-//hacksw/handcal//NONSGML v1.0//EN
BEGIN:VEVENT
UID:a87f90862eaa638f187ecb0ea9482ed9
DTSTAMP:20260421T094233Z

DTSTART:20221105T140000
DTEND:20221105T230000
SUMMARY:Come Sit By My Fire in Toronto, ON
DESCRIPTION:'Come Sit by my Fire' is back for a second year, inviting Toronto to gather round for a cozy day of free live music, art, and performances.\n\nThis free, open-air outdoor event is an all-ages block party hosted on Geary Ave, produced by Mondo Forma with support from Reconnect Ontario. Drop by any time from 2-11PM on Nov 5th to 218 Geary, to enjoy live music, collaborative interactive art, free hot chocolate and a special LED & fire performance by North Fire Circus in the evening.

X-ALT-DESC;FMTTYPE=text/html:<!DOCTYPE HTML PUBLIC "-//W3C//DTD HTML 3.2//EN">\n<HTML>\n<HEAD>\n<META NAME="Generator" CONTENT="MS Exchange Server version 08.00.0681.000">\n<TITLE></TITLE>\n</HEAD>\n<BODY>\n<!-- Converted from text/rtf format -->\n\n'Come Sit by my Fire' is back for a second year, inviting Toronto to gather round for a cozy day of free live music, art, and performances.<br /><br />This free, open-air outdoor event is an all-ages block party hosted on Geary Ave, produced by Mondo Forma with support from Reconnect Ontario. Drop by any time from 2-11PM on Nov 5th to 218 Geary, to enjoy live music, collaborative interactive art, free hot chocolate and a special LED & fire performance by North Fire Circus in the evening.\n\n</BODY>\n</HTML>

LOCATION:218 Geary Ave, Toronto, ON M6H 2C3, Canada
END:VEVENT

END:VCALENDAR
