BEGIN:VCALENDAR
VERSION:2.0
PRODID:-//hacksw/handcal//NONSGML v1.0//EN
BEGIN:VEVENT
UID:19a5e3a8ba3929f48864995db9769125
DTSTAMP:20260420T031828Z

DTSTART:20221113T100000
DTEND:20221113T160000
SUMMARY:The Old Book & Paper Show in Toronto, ON
DESCRIPTION:A one day sale of everything paper! Vintage books, posters, advertising, sports collectibles, magazines, calendars, menus, theatre programs, lobby cards, hollywood,history, documents, militaria, ephemera, postcards and more. A treasure trove for collectors, decorators and the curious fun seeker. You will not be disappointed!

X-ALT-DESC;FMTTYPE=text/html:<!DOCTYPE HTML PUBLIC "-//W3C//DTD HTML 3.2//EN">\n<HTML>\n<HEAD>\n<META NAME="Generator" CONTENT="MS Exchange Server version 08.00.0681.000">\n<TITLE></TITLE>\n</HEAD>\n<BODY>\n<!-- Converted from text/rtf format -->\n\nA one day sale of everything paper! Vintage books, posters, advertising, sports collectibles, magazines, calendars, menus, theatre programs, lobby cards, hollywood,history, documents, militaria, ephemera, postcards and more. A treasure trove for collectors, decorators and the curious fun seeker. You will not be disappointed!\n\n</BODY>\n</HTML>

LOCATION:601 Christie St, Toronto, ON M6G 2X7, Canada
END:VEVENT

END:VCALENDAR
