BEGIN:VCALENDAR
VERSION:2.0
PRODID:-//hacksw/handcal//NONSGML v1.0//EN
BEGIN:VEVENT
UID:369311649fda6a16574fc94259b15f8b
DTSTAMP:20260425T144401Z

DTSTART:20221119T110000
DTEND:20221120T160000
SUMMARY:Swedish Christmas Fair in Toronto, ON
DESCRIPTION:FREE Admission. \n\nThe Swedish Christmas Fair, hosted by SWEA (Swedish Women’s Educational Association) Toronto, attracts thousands of people each year who come to experience Swedish Christmas food, design, folk art, crafts, and traditions.\n\nThis year, visitors will enjoy Swedish food at the Café, the Lucia procession, the Swedish Folk Dancers and Singers, the Children’s Loft with Christmas crafts, the Book Corner, the yearly Swedish exhibit, and of course the vast selection of Swedish design products and folk art for sale. There will also be the traditional Glögg stand (Swedish mulled wine), Swedish candy, and the traditional Swedish dance around the Christmas tree to celebrate the holidays!

X-ALT-DESC;FMTTYPE=text/html:<!DOCTYPE HTML PUBLIC "-//W3C//DTD HTML 3.2//EN">\n<HTML>\n<HEAD>\n<META NAME="Generator" CONTENT="MS Exchange Server version 08.00.0681.000">\n<TITLE></TITLE>\n</HEAD>\n<BODY>\n<!-- Converted from text/rtf format -->\n\nFREE Admission. <br /><br />The Swedish Christmas Fair, hosted by SWEA (Swedish Women’s Educational Association) Toronto, attracts thousands of people each year who come to experience Swedish Christmas food, design, folk art, crafts, and traditions.<br /><br />This year, visitors will enjoy Swedish food at the Café, the Lucia procession, the Swedish Folk Dancers and Singers, the Children’s Loft with Christmas crafts, the Book Corner, the yearly Swedish exhibit, and of course the vast selection of Swedish design products and folk art for sale. There will also be the traditional Glögg stand (Swedish mulled wine), Swedish candy, and the traditional Swedish dance around the Christmas tree to celebrate the holidays!\n\n</BODY>\n</HTML>

LOCATION:585 Dundas St E, Toronto, ON M5A 2B7, Canada
END:VEVENT

END:VCALENDAR
