BEGIN:VCALENDAR
VERSION:2.0
PRODID:-//hacksw/handcal//NONSGML v1.0//EN
BEGIN:VEVENT
UID:33027dcdc093e42506be5d271559cda0
DTSTAMP:20260424T102622Z

DTSTART:20221102T190000
DTEND:20221102T203000
SUMMARY:Andy Mann From Summit to Sea
DESCRIPTION:National Geographic Live & Royal Onstage Present ANDY MANN "From Summit to Sea" held at the Royal Theatre in Victoria, British Columbia\n\nANDY MANN is an adventurer and an award-winning filmmaker and photographer, whose stories document our changing planet. This film will inspire you as you conquer mountains and dive with threatened giants alongside Andy. A question-and-answer session with Andy will follow the film.\n\nAndy Mann has documented expeditions on all seven continents for National Geographic magazine and is a founding member of the Sea Legacy Collective.\n\nTICKETS: Starting at $41.50 may be purchased from the website or the Royal Theatre Box Office.

X-ALT-DESC;FMTTYPE=text/html:<!DOCTYPE HTML PUBLIC "-//W3C//DTD HTML 3.2//EN">\n<HTML>\n<HEAD>\n<META NAME="Generator" CONTENT="MS Exchange Server version 08.00.0681.000">\n<TITLE></TITLE>\n</HEAD>\n<BODY>\n<!-- Converted from text/rtf format -->\n\nNational Geographic Live & Royal Onstage Present ANDY MANN "From Summit to Sea" held at the Royal Theatre in Victoria, British Columbia<br /><br />ANDY MANN is an adventurer and an award-winning filmmaker and photographer, whose stories document our changing planet. This film will inspire you as you conquer mountains and dive with threatened giants alongside Andy. A question-and-answer session with Andy will follow the film.<br /><br />Andy Mann has documented expeditions on all seven continents for National Geographic magazine and is a founding member of the Sea Legacy Collective.<br /><br />TICKETS: Starting at $41.50 may be purchased from the website or the Royal Theatre Box Office.\n\n</BODY>\n</HTML>

LOCATION:805 Broughton St, Victoria, BC V8W 1E5, Canada
END:VEVENT

END:VCALENDAR
