BEGIN:VCALENDAR
VERSION:2.0
PRODID:-//hacksw/handcal//NONSGML v1.0//EN
BEGIN:VEVENT
UID:5812c91cec717e9076a2c2cb74ab1d45
DTSTAMP:20260423T202653Z

DTSTART:20221104T100000
DTEND:20230108T190000
SUMMARY:Beyond King Tut the Immersive Experience Vancouver
DESCRIPTION:Beyond King Tut - The Immersive Experience, Vancouver, BC\n\nBeyond King Tut opens November 4, 2022, in Vancouver BC. Held at the Vancouver Convention Centre, this interactive experience includes a stroll through nine distinct multi-sensory galleries unlocking the 3,300-year-old story of King Tutankhamun. While there are no physical exhibits of artefacts, this unique way of visual storytelling provides an immersive experience of photography and multimedia. You will feel you are a time-traveler on a journey through one of the greatest archaeological discoveries of all time--King Tut's tomb! Exploring his life, tomb and the treasures within!  \n\nTICKETS: available exclusively from the website: https://beyondkingtut.com/city/vancouver\n\nThe event runs from November 4, 2022, to January 8th, 2023:\nSunday - Thursday: 10am-8pm (final entry 7pm)\nFriday & Saturday: 10am-9pm (final entry 8pm)\n\nAdult Timed Entry (Ages 16+):  $31.99\nChild (Ages 5-15) Timed Entry: $23.99\nMilitary Timed Entry:                  $28.99\nSenior Timed Entry (Tuesday):  $28.99\n\nAs well there are a number of ticket price options for family, VIP, multi-day, and group.  Popular times are evenings, weekends and holidays.\n\nYour visit will take approximately one hour, however, as it is self-guided, you can stay as long as you like. Final entry is one hour prior to show close. 

X-ALT-DESC;FMTTYPE=text/html:<!DOCTYPE HTML PUBLIC "-//W3C//DTD HTML 3.2//EN">\n<HTML>\n<HEAD>\n<META NAME="Generator" CONTENT="MS Exchange Server version 08.00.0681.000">\n<TITLE></TITLE>\n</HEAD>\n<BODY>\n<!-- Converted from text/rtf format -->\n\nBeyond King Tut - The Immersive Experience, Vancouver, BC<br /><br />Beyond King Tut opens November 4, 2022, in Vancouver BC. Held at the Vancouver Convention Centre, this interactive experience includes a stroll through nine distinct multi-sensory galleries unlocking the 3,300-year-old story of King Tutankhamun. While there are no physical exhibits of artefacts, this unique way of visual storytelling provides an immersive experience of photography and multimedia. You will feel you are a time-traveler on a journey through one of the greatest archaeological discoveries of all time--King Tut's tomb! Exploring his life, tomb and the treasures within!  <br /><br />TICKETS: available exclusively from the website: https://beyondkingtut.com/city/vancouver<br /><br />The event runs from November 4, 2022, to January 8th, 2023:<br />Sunday - Thursday: 10am-8pm (final entry 7pm)<br />Friday & Saturday: 10am-9pm (final entry 8pm)<br /><br />Adult Timed Entry (Ages 16+):  $31.99<br />Child (Ages 5-15) Timed Entry: $23.99<br />Military Timed Entry:                  $28.99<br />Senior Timed Entry (Tuesday):  $28.99<br /><br />As well there are a number of ticket price options for family, VIP, multi-day, and group.  Popular times are evenings, weekends and holidays.<br /><br />Your visit will take approximately one hour, however, as it is self-guided, you can stay as long as you like. Final entry is one hour prior to show close. \n\n</BODY>\n</HTML>

LOCATION:999 Canada Pl, Vancouver, BC V6C 3B5, Canada
END:VEVENT

END:VCALENDAR
