BEGIN:VCALENDAR
VERSION:2.0
PRODID:-//hacksw/handcal//NONSGML v1.0//EN
BEGIN:VEVENT
UID:a05af95762edf35a6c0a28839706ee65
DTSTAMP:20260423T234703Z

DTSTART:20221111T100000
DTEND:20221211T190000
SUMMARY:Beyond Van Gogh The Immersive Experience
DESCRIPTION:Beyond Van Gogh The Immersive Experience is coming to Victoria, British Columbia in November!\n\nImagine an art gallery of Vincent Van Gogh's greatest works dropped onto a screen the size of an IMAX, then add a symphonic score -- now you have a post-impressionist virtual reality. The floor changes as you walk through this 30K square foot gallery, the images on the walls slide both horizontally and vertically as the scene in the room changes, moving from one canvas to the next. You are seemingly shrunk in size as you walk through and become one with the paintings. There are 300 of Van Gogh's artworks, including such favorites as "The Starry Night", "Sunflowers" and "Cafe Terrace at Night". Comprised of over 4 billion content pixels this Canadian technology and high-resolution portrayal of Van Gogh's works provides visitors with the opportunity to experience art from a new perspective, from that inside a painting.\n\nTickets are available online from the website: https://vangoghvictoria.com\nAdult Basic timed entry:   $31.99\nStudent/Senior:                $28.99\nChild                                 $23.99:\nAlso available are various group, VIP and multi-day ticket options also available from the website.\n\nThis time-entry exhibit takes about approximately one hour to complete and therefore, the last admission to the gallery for the day is at 7PM.\n

X-ALT-DESC;FMTTYPE=text/html:<!DOCTYPE HTML PUBLIC "-//W3C//DTD HTML 3.2//EN">\n<HTML>\n<HEAD>\n<META NAME="Generator" CONTENT="MS Exchange Server version 08.00.0681.000">\n<TITLE></TITLE>\n</HEAD>\n<BODY>\n<!-- Converted from text/rtf format -->\n\nBeyond Van Gogh The Immersive Experience is coming to Victoria, British Columbia in November!<br /><br />Imagine an art gallery of Vincent Van Gogh's greatest works dropped onto a screen the size of an IMAX, then add a symphonic score -- now you have a post-impressionist virtual reality. The floor changes as you walk through this 30K square foot gallery, the images on the walls slide both horizontally and vertically as the scene in the room changes, moving from one canvas to the next. You are seemingly shrunk in size as you walk through and become one with the paintings. There are 300 of Van Gogh's artworks, including such favorites as "The Starry Night", "Sunflowers" and "Cafe Terrace at Night". Comprised of over 4 billion content pixels this Canadian technology and high-resolution portrayal of Van Gogh's works provides visitors with the opportunity to experience art from a new perspective, from that inside a painting.<br /><br />Tickets are available online from the website: https://vangoghvictoria.com<br />Adult Basic timed entry:   $31.99<br />Student/Senior:                $28.99<br />Child                                 $23.99:<br />Also available are various group, VIP and multi-day ticket options also available from the website.<br /><br />This time-entry exhibit takes about approximately one hour to complete and therefore, the last admission to the gallery for the day is at 7PM.<br />\n\n</BODY>\n</HTML>

LOCATION:355 Catherine St, Victoria, BC V9A 3S9, Canada
END:VEVENT

END:VCALENDAR
