BEGIN:VCALENDAR
VERSION:2.0
PRODID:-//hacksw/handcal//NONSGML v1.0//EN
BEGIN:VEVENT
UID:79f516f28ea6f9565de80fcdec52665c
DTSTAMP:20260420T111016Z

DTSTART:20221126T180000
DTEND:20221126T180000
SUMMARY:Toronto Calvacade of Lights
DESCRIPTION:The holiday season kicks off in Toronto with The Cavalcade of Lights at the Nathan Phillips Square, one of the favorite local traditions. Thousands of people gather to see the lighting of Toronto’s official Christmas Tree, listen to live music and skate on the illuminated rink. The evening ends with a spectacular firework display.

X-ALT-DESC;FMTTYPE=text/html:<!DOCTYPE HTML PUBLIC "-//W3C//DTD HTML 3.2//EN">\n<HTML>\n<HEAD>\n<META NAME="Generator" CONTENT="MS Exchange Server version 08.00.0681.000">\n<TITLE></TITLE>\n</HEAD>\n<BODY>\n<!-- Converted from text/rtf format -->\n\nThe holiday season kicks off in Toronto with The Cavalcade of Lights at the Nathan Phillips Square, one of the favorite local traditions. Thousands of people gather to see the lighting of Toronto’s official Christmas Tree, listen to live music and skate on the illuminated rink. The evening ends with a spectacular firework display.\n\n</BODY>\n</HTML>

LOCATION:100 Queen St W, Toronto, ON M5H 2N1, Canada
END:VEVENT

END:VCALENDAR
