BEGIN:VCALENDAR
VERSION:2.0
PRODID:-//hacksw/handcal//NONSGML v1.0//EN
BEGIN:VEVENT
UID:81c01f609e16749bd928e83cac070b3b
DTSTAMP:20260421T070412Z

DTSTART:20221005T190000
DTEND:20221107T000000
SUMMARY:Canada;s Wonderland Halloween Haunt 2022, Vaughan, Ontario  - 05.10.2022
DESCRIPTION:Visit Canada's Wonderland in Vaughan, Ontario, and experience the thrills of your favorite rides and the chills of terrifying haunted attractions and shows.\nHalloween Haunt is an event where the streets of Canada's Wonderland are filled with terror, including hundreds of monsters, terrifyingly scary zones and mazes, ghoulish street performers, live music, thrilling night rides, and electrifying live shows.\nIf you're looking for things to do - or places to scream while visiting Toronto, don't miss Canada's largest Halloween event.\n\nTickets available online 

X-ALT-DESC;FMTTYPE=text/html:<!DOCTYPE HTML PUBLIC "-//W3C//DTD HTML 3.2//EN">\n<HTML>\n<HEAD>\n<META NAME="Generator" CONTENT="MS Exchange Server version 08.00.0681.000">\n<TITLE></TITLE>\n</HEAD>\n<BODY>\n<!-- Converted from text/rtf format -->\n\nVisit Canada's Wonderland in Vaughan, Ontario, and experience the thrills of your favorite rides and the chills of terrifying haunted attractions and shows.<br />Halloween Haunt is an event where the streets of Canada's Wonderland are filled with terror, including hundreds of monsters, terrifyingly scary zones and mazes, ghoulish street performers, live music, thrilling night rides, and electrifying live shows.<br />If you're looking for things to do - or places to scream while visiting Toronto, don't miss Canada's largest Halloween event.<br /><br />Tickets available online \n\n</BODY>\n</HTML>

LOCATION:1 Canada's Wonderland Drive, Vaughan, ON L6A 1S6, Canada
END:VEVENT

END:VCALENDAR
