BEGIN:VCALENDAR
VERSION:2.0
PRODID:-//hacksw/handcal//NONSGML v1.0//EN
BEGIN:VEVENT
UID:f59f44b63a2d014c2dbc56b2a5ac5ef2
DTSTAMP:20260426T003033Z

DTSTART:20221129T100000
DTEND:20221204T180000
SUMMARY:Canadian Western Agribition 2022, Regina, Saskatchewan  - 29.11.2022
DESCRIPTION:Come experience the best beef show on earth at the Canadian Western Agribition, Everaz Place, Regina, Saskatchewan, from November 28th to December 3rd, 2022.\nSee the largest livestock show in Canada. The show features beef cattle, horses, bison, sheep, goats, and an extensive agribusiness trade show. \nThe Canadian Western Agribition is a showcase of agriculture, Indigenous culture, and festive entertainment, with live music, shopping, and food. It aims to create and maintain an effective, hospitable, and entertaining atmosphere to market Canadian agriculture products and expertise to the world.

X-ALT-DESC;FMTTYPE=text/html:<!DOCTYPE HTML PUBLIC "-//W3C//DTD HTML 3.2//EN">\n<HTML>\n<HEAD>\n<META NAME="Generator" CONTENT="MS Exchange Server version 08.00.0681.000">\n<TITLE></TITLE>\n</HEAD>\n<BODY>\n<!-- Converted from text/rtf format -->\n\nCome experience the best beef show on earth at the Canadian Western Agribition, Everaz Place, Regina, Saskatchewan, from November 28th to December 3rd, 2022.<br />See the largest livestock show in Canada. The show features beef cattle, horses, bison, sheep, goats, and an extensive agribusiness trade show. <br />The Canadian Western Agribition is a showcase of agriculture, Indigenous culture, and festive entertainment, with live music, shopping, and food. It aims to create and maintain an effective, hospitable, and entertaining atmosphere to market Canadian agriculture products and expertise to the world.\n\n</BODY>\n</HTML>

LOCATION:1700 Elphinstone St, Regina, SK S4P 2Z6, Canada
END:VEVENT

END:VCALENDAR
