BEGIN:VCALENDAR
VERSION:2.0
PRODID:-//hacksw/handcal//NONSGML v1.0//EN
BEGIN:VEVENT
UID:31ee7ea31b2b054a3f302a61443eb4a7
DTSTAMP:20260422T024948Z

DTSTART:20221001T100000
DTEND:20221001T170000
SUMMARY:Canzine 2022 in Toronto, ON
DESCRIPTION:Canzine, Canada's largest festival of zines and independent print culture, is back and in-person!\n\nCanzine features over 200 artists, writers and vendors. It is the event to discover zines and small press works. First held in Toronto in 1995, Canzine has since expanded across Canada, hosting hundreds of writers and performers, displaying thousands of zines, books, prints, pins and all manner of artistic accessories.\n\nThe festival offers a variety of presentations, workshops, reading series, and micro art exhibitions from independent artists throughout the day. All events are free to attend!

X-ALT-DESC;FMTTYPE=text/html:<!DOCTYPE HTML PUBLIC "-//W3C//DTD HTML 3.2//EN">\n<HTML>\n<HEAD>\n<META NAME="Generator" CONTENT="MS Exchange Server version 08.00.0681.000">\n<TITLE></TITLE>\n</HEAD>\n<BODY>\n<!-- Converted from text/rtf format -->\n\nCanzine, Canada's largest festival of zines and independent print culture, is back and in-person!<br /><br />Canzine features over 200 artists, writers and vendors. It is the event to discover zines and small press works. First held in Toronto in 1995, Canzine has since expanded across Canada, hosting hundreds of writers and performers, displaying thousands of zines, books, prints, pins and all manner of artistic accessories.<br /><br />The festival offers a variety of presentations, workshops, reading series, and micro art exhibitions from independent artists throughout the day. All events are free to attend!\n\n</BODY>\n</HTML>

LOCATION:789 Yonge St, Toronto, ON M4W 2G8, Canada
END:VEVENT

END:VCALENDAR
