BEGIN:VCALENDAR
VERSION:2.0
PRODID:-//hacksw/handcal//NONSGML v1.0//EN
BEGIN:VEVENT
UID:90dd60d1cd5e006e3d2881b8d3c68713
DTSTAMP:20260424T161312Z

DTSTART:20221001T183000
DTEND:20221001T213000
SUMMARY:Kampai Sake Festival Toronto 2022
DESCRIPTION:Come join us at "Kampai Toronto 2022", Canada’s largest sake festival!\n\nSake Institute of Ontario (SIO) is officially announcing the return of Kampai Toronto as an in-person event! We invite you to once again come together with friends and fellow enthusiasts to explore sakes from Japan and around the world, chat with vendors and brewers & sample food from a selection of Toronto’s finest Japanese restaurants.\n\nThe 10th edition of Kampai Toronto will be held at the Japanese Canadian Cultural Centre (JCCC) in conjunction with World Sake Day on the evening of Saturday October 1st. We are excited to partner with the JCCC which is one of the largest, most vibrant Japanese cultural institutions in the world, offering a perfect setting to experience the extensive history, boundless culture and impressive legacy of sake, a beverage which continues to evolve and innovate over centuries to this day.\n\nSince its inception in 2012 this Festival of Sake (also Canada’s largest!) has been the go-to event to celebrate sake by interacting with distributors and manufacturers while sampling an incredible array of sakes in a range of styles.\n\nOver 200 sakes and 50 sake breweries will be exhibiting at this event.\n\nTo attend Kampai Toronto you must purchase an admission ticket. We strongly encourage you to purchase ahead of time in case the event becomes sold out.\n\nIn order to sample sakes for the main event walk around tasting patrons will need drink tickets. Drink tickets are available to purchase in combination with admission (recommended) as well as at the venue during the event.\n\n6 prominent local restaurants/food vendors will be providing a variety of Japanese & Asian inspired gourmet appetizers for sale. Food vendors will be accepting cash/credit/debit.\n\nTo purchase tickets please visit: Over 200 sakes and 50 sake breweries will be exhibiting at this event.\n\nTo attend Kampai Toronto you must purchase an admission ticket. We strongly encourage you to purchase ahead of time in case the event becomes sold out.\n\nIn order to sample sakes for the main event walk around tasting patrons will need drink tickets. Drink tickets are available to purchase in combination with admission (recommended) as well as at the venue during the event.\n\n6 prominent local restaurants/food vendors will be providing a variety of Japanese & Asian inspired gourmet appetizers for sale. Food vendors will be accepting cash/credit/debit only, they cannot accept drink tickets.\n\nFor tickets please visit: https://www.eventbrite.ca/e/kampai-toronto-festival-of-sake-2022-public-session-tickets-415367373997\n\nABOUT SAKE\n\nSake made its first international debut at the 1872 Vienna International Expo, under the name "Nihonshu". Although sake has been in existence in Japan for over a two thousand years, it’s recent resurgence in the Japanese and international market is partially due to its elegance and versatility when paired with other cuisines. Unlike other alcohols, most sake is produced in small batches at artisanal breweries and is considered craft with many distinct classifications. Kampai Toronto is a rare opportunity to experience the depth and complexity of this culturally significant Japanese beverage and tradition.\n\nThis is an age 19+ event.\n\n

X-ALT-DESC;FMTTYPE=text/html:<!DOCTYPE HTML PUBLIC "-//W3C//DTD HTML 3.2//EN">\n<HTML>\n<HEAD>\n<META NAME="Generator" CONTENT="MS Exchange Server version 08.00.0681.000">\n<TITLE></TITLE>\n</HEAD>\n<BODY>\n<!-- Converted from text/rtf format -->\n\nCome join us at "Kampai Toronto 2022", Canada’s largest sake festival!<br /><br />Sake Institute of Ontario (SIO) is officially announcing the return of Kampai Toronto as an in-person event! We invite you to once again come together with friends and fellow enthusiasts to explore sakes from Japan and around the world, chat with vendors and brewers & sample food from a selection of Toronto’s finest Japanese restaurants.<br /><br />The 10th edition of Kampai Toronto will be held at the Japanese Canadian Cultural Centre (JCCC) in conjunction with World Sake Day on the evening of Saturday October 1st. We are excited to partner with the JCCC which is one of the largest, most vibrant Japanese cultural institutions in the world, offering a perfect setting to experience the extensive history, boundless culture and impressive legacy of sake, a beverage which continues to evolve and innovate over centuries to this day.<br /><br />Since its inception in 2012 this Festival of Sake (also Canada’s largest!) has been the go-to event to celebrate sake by interacting with distributors and manufacturers while sampling an incredible array of sakes in a range of styles.<br /><br />Over 200 sakes and 50 sake breweries will be exhibiting at this event.<br /><br />To attend Kampai Toronto you must purchase an admission ticket. We strongly encourage you to purchase ahead of time in case the event becomes sold out.<br /><br />In order to sample sakes for the main event walk around tasting patrons will need drink tickets. Drink tickets are available to purchase in combination with admission (recommended) as well as at the venue during the event.<br /><br />6 prominent local restaurants/food vendors will be providing a variety of Japanese & Asian inspired gourmet appetizers for sale. Food vendors will be accepting cash/credit/debit.<br /><br />To purchase tickets please visit: Over 200 sakes and 50 sake breweries will be exhibiting at this event.<br /><br />To attend Kampai Toronto you must purchase an admission ticket. We strongly encourage you to purchase ahead of time in case the event becomes sold out.<br /><br />In order to sample sakes for the main event walk around tasting patrons will need drink tickets. Drink tickets are available to purchase in combination with admission (recommended) as well as at the venue during the event.<br /><br />6 prominent local restaurants/food vendors will be providing a variety of Japanese & Asian inspired gourmet appetizers for sale. Food vendors will be accepting cash/credit/debit only, they cannot accept drink tickets.<br /><br />For tickets please visit: https://www.eventbrite.ca/e/kampai-toronto-festival-of-sake-2022-public-session-tickets-415367373997<br /><br />ABOUT SAKE<br /><br />Sake made its first international debut at the 1872 Vienna International Expo, under the name "Nihonshu". Although sake has been in existence in Japan for over a two thousand years, it’s recent resurgence in the Japanese and international market is partially due to its elegance and versatility when paired with other cuisines. Unlike other alcohols, most sake is produced in small batches at artisanal breweries and is considered craft with many distinct classifications. Kampai Toronto is a rare opportunity to experience the depth and complexity of this culturally significant Japanese beverage and tradition.<br /><br />This is an age 19+ event.<br /><br />\n\n</BODY>\n</HTML>

LOCATION:6 Garamond Ct, North York, ON M3C 1Z5, Canada
END:VEVENT

END:VCALENDAR
