BEGIN:VCALENDAR
VERSION:2.0
PRODID:-//hacksw/handcal//NONSGML v1.0//EN
BEGIN:VEVENT
UID:38bf99de0dda31498d39cfe1f7a3dbbb
DTSTAMP:20260423T100200Z

DTSTART:20220924T100000
DTEND:20220924T170000
SUMMARY:Indonesian Food Festival 2022
DESCRIPTION:The Consulate General of the Republic of Indonesia and the Indonesian community in Toronto are pleased to present  “the Indonesian Food Festival 2022”.\n\nIndonesian Food Festival 2022 will be coming to Toronto on Saturday, September 24th, 2022, at Yonge-Dundas Square. Come party with us FOR FREE to further experience a land where arts and culture are linked with vibrant artistic traditions from 300 various ethnic tribes from 10 a.m. to 5 p.m!\n\nWorry not about being hungry while in it. Satisfy your appetite with various Indonesian culinary, such as Beef Rendang, Satay, etc. This lifetime opportunity will satisfy your palette and appetite with our authentic Indonesian cuisines - while experiencing the fascinating combination of the finest Indonesian spices and herbs! Watch yourself drawn into the Indonesian dishes from our cooking demos – as they might make your mouth drooling already!\n\nThere will be various Indonesian traditional music and dances performances too! From the eye-catching Saman Dance to the pleasing Angklung sound. Also, be amused by our amazing Fashion Show. So, definitely stay until the end to be fascinated by what Indonesia could offer!\n\nFell in love with all Indonesian cuisines you tried, and still want to have more at home? Do not worry! Captivate yourself with the vast selection of Indonesia’s food products, from Indomie to Sambal. Do not miss our unique handicraft products in the exhibition, they will definitely please your eyes!\n\nCraving some more? Drop by at our information booth. You will learn more about the world's biggest archipelago's beautiful natural sightseeing and also all the exciting experiences Indonesia can offer! So you will know exactly where the next destination trip for your unforgettable holidays.\n\nSo, what are you waiting for? Invite your friends, family, and loved ones to join us at the INDONESIAN FOOD FESTIVAL 2022! Experience the wonderfulness of Indonesia together and create a memory that will last a lifetime!

X-ALT-DESC;FMTTYPE=text/html:<!DOCTYPE HTML PUBLIC "-//W3C//DTD HTML 3.2//EN">\n<HTML>\n<HEAD>\n<META NAME="Generator" CONTENT="MS Exchange Server version 08.00.0681.000">\n<TITLE></TITLE>\n</HEAD>\n<BODY>\n<!-- Converted from text/rtf format -->\n\nThe Consulate General of the Republic of Indonesia and the Indonesian community in Toronto are pleased to present  “the Indonesian Food Festival 2022”.<br /><br />Indonesian Food Festival 2022 will be coming to Toronto on Saturday, September 24th, 2022, at Yonge-Dundas Square. Come party with us FOR FREE to further experience a land where arts and culture are linked with vibrant artistic traditions from 300 various ethnic tribes from 10 a.m. to 5 p.m!<br /><br />Worry not about being hungry while in it. Satisfy your appetite with various Indonesian culinary, such as Beef Rendang, Satay, etc. This lifetime opportunity will satisfy your palette and appetite with our authentic Indonesian cuisines - while experiencing the fascinating combination of the finest Indonesian spices and herbs! Watch yourself drawn into the Indonesian dishes from our cooking demos – as they might make your mouth drooling already!<br /><br />There will be various Indonesian traditional music and dances performances too! From the eye-catching Saman Dance to the pleasing Angklung sound. Also, be amused by our amazing Fashion Show. So, definitely stay until the end to be fascinated by what Indonesia could offer!<br /><br />Fell in love with all Indonesian cuisines you tried, and still want to have more at home? Do not worry! Captivate yourself with the vast selection of Indonesia’s food products, from Indomie to Sambal. Do not miss our unique handicraft products in the exhibition, they will definitely please your eyes!<br /><br />Craving some more? Drop by at our information booth. You will learn more about the world's biggest archipelago's beautiful natural sightseeing and also all the exciting experiences Indonesia can offer! So you will know exactly where the next destination trip for your unforgettable holidays.<br /><br />So, what are you waiting for? Invite your friends, family, and loved ones to join us at the INDONESIAN FOOD FESTIVAL 2022! Experience the wonderfulness of Indonesia together and create a memory that will last a lifetime!\n\n</BODY>\n</HTML>

LOCATION:1 Dundas St E, Toronto, ON M5B, Canada
END:VEVENT

END:VCALENDAR
