BEGIN:VCALENDAR
VERSION:2.0
PRODID:-//hacksw/handcal//NONSGML v1.0//EN
BEGIN:VEVENT
UID:93dc2c5f5b4fba6700cd3d831e9010c6
DTSTAMP:20260426T002953Z

DTSTART:20221001T190000
DTEND:20221001T200000
SUMMARY:Candlelight: The Best of Anime Vancouver BC Canada
DESCRIPTION:Candlelight is a series of concerts held in inspiring locations such as in heritage venues and in cathedrals. This concert held at the Kerrisdale Presbyterian Church in Vancouver, BC, Canada features the music of Anime.\n\nWhile anime is short for animation, most times when we refer to anime we mean Japanese animation which has its own unique style, artwork, storytelling and cultural nuances. Visual effects and episode lengths of 12 minutes or less are hallmarks of anime. Over the last 40 years anime has become an international phenomenon being translated to many languages and attracting millions of fans.\n\nMusic is key to anime and anime can include all genres and styles of music including, rock, jazz, and classical. Music connects people with the storytelling and brings joy to the performance.\n\nThere are two performance times on October 1, one at 7PM and one at 9PM, each performance is 60 minutes long and will be held in the glow of candlelight. The performer is the Listeso String Quartet. A list of 17 of the songs that will be performed have been listed on the website, three are: Dragon Ball "Mystical Adventure", Elfen Lied "Lillium", and Naruto "Blue Bird."\n\nTICKETS: are available from the website and range in price from $30 to $60 depending on seating.\n\nThis is a good event for families with children over 8. Children under 16 must be accompanied by an adult.\n\n#anime 

X-ALT-DESC;FMTTYPE=text/html:<!DOCTYPE HTML PUBLIC "-//W3C//DTD HTML 3.2//EN">\n<HTML>\n<HEAD>\n<META NAME="Generator" CONTENT="MS Exchange Server version 08.00.0681.000">\n<TITLE></TITLE>\n</HEAD>\n<BODY>\n<!-- Converted from text/rtf format -->\n\nCandlelight is a series of concerts held in inspiring locations such as in heritage venues and in cathedrals. This concert held at the Kerrisdale Presbyterian Church in Vancouver, BC, Canada features the music of Anime.<br /><br />While anime is short for animation, most times when we refer to anime we mean Japanese animation which has its own unique style, artwork, storytelling and cultural nuances. Visual effects and episode lengths of 12 minutes or less are hallmarks of anime. Over the last 40 years anime has become an international phenomenon being translated to many languages and attracting millions of fans.<br /><br />Music is key to anime and anime can include all genres and styles of music including, rock, jazz, and classical. Music connects people with the storytelling and brings joy to the performance.<br /><br />There are two performance times on October 1, one at 7PM and one at 9PM, each performance is 60 minutes long and will be held in the glow of candlelight. The performer is the Listeso String Quartet. A list of 17 of the songs that will be performed have been listed on the website, three are: Dragon Ball "Mystical Adventure", Elfen Lied "Lillium", and Naruto "Blue Bird."<br /><br />TICKETS: are available from the website and range in price from $30 to $60 depending on seating.<br /><br />This is a good event for families with children over 8. Children under 16 must be accompanied by an adult.<br /><br />#anime \n\n</BODY>\n</HTML>

LOCATION:2733 W 41st Ave, Vancouver, BC V6N 3C5, Canada
END:VEVENT

END:VCALENDAR
