BEGIN:VCALENDAR
VERSION:2.0
PRODID:-//hacksw/handcal//NONSGML v1.0//EN
BEGIN:VEVENT
UID:312343123f13d7c87ce8ae18b4b45193
DTSTAMP:20260424T042806Z

DTSTART:20220925T180000
DTEND:20220927T180000
SUMMARY:Bolton Fall Fair and Tractor Pull 2022, Bolton, Ontario - 25.09.2022
DESCRIPTION:Come celebrate the 164th Annual Bolton Fall Fair at the Albion Fair Grounds.\nLoads of family fun with a Midway, Agricultural Exhibits & Shows, Live Entertainment, Buskers, and everyone's favorite the Demolition Derby and Tractor Pull\nThere is also a Craft Beer Festival with several food vendors.\nTHURSDAY NIGHT TONNIE RIDES\nGROUNDS: 6:00 PM-10:30 PM\nADULTS: FREE\nKIDS UNDER 12 WITH ADULT: FREE\nPRESCHOOLERS: FREE\n\nFRIDAY\nGROUNDS: 4:00 PM-10:30 PM\nBUILDING: 6:00PM-8:00PM\nADULTS: $20\nKIDS UNDER 12 WITH ADULT: $10\nPRESCHOOLERS: FREE\n\nSATURDAY\nGROUNDS: 9:00 AM-10:30 PM\nARENA: 9:00AM-8:00PM\nPRES.BUILDING: 10:00AM-8:00PM\nADULTS: $20\nKIDS UNDER 12 WITH ADULT: $10\nPRESCHOOLERS: FREE\n\nSUNDAY\nGROUNDS: 8:00 AM-4:30 PM\nARENA: 9:00AM-3:45PM\nPRES.BUILDING: 10:00AM-3:45PM\nADULTS: $10\nKIDS UNDER 12 WITH ADULT: $5\nPRESCHOOLERS: FREE\n\nUnlimited Midway Ride Bracelets will be available on Sunday only for $25. Midway operates from 11:00 am to 4:00 pm.\n\n

X-ALT-DESC;FMTTYPE=text/html:<!DOCTYPE HTML PUBLIC "-//W3C//DTD HTML 3.2//EN">\n<HTML>\n<HEAD>\n<META NAME="Generator" CONTENT="MS Exchange Server version 08.00.0681.000">\n<TITLE></TITLE>\n</HEAD>\n<BODY>\n<!-- Converted from text/rtf format -->\n\nCome celebrate the 164th Annual Bolton Fall Fair at the Albion Fair Grounds.<br />Loads of family fun with a Midway, Agricultural Exhibits & Shows, Live Entertainment, Buskers, and everyone's favorite the Demolition Derby and Tractor Pull<br />There is also a Craft Beer Festival with several food vendors.<br />THURSDAY NIGHT TONNIE RIDES<br />GROUNDS: 6:00 PM-10:30 PM<br />ADULTS: FREE<br />KIDS UNDER 12 WITH ADULT: FREE<br />PRESCHOOLERS: FREE<br /><br />FRIDAY<br />GROUNDS: 4:00 PM-10:30 PM<br />BUILDING: 6:00PM-8:00PM<br />ADULTS: $20<br />KIDS UNDER 12 WITH ADULT: $10<br />PRESCHOOLERS: FREE<br /><br />SATURDAY<br />GROUNDS: 9:00 AM-10:30 PM<br />ARENA: 9:00AM-8:00PM<br />PRES.BUILDING: 10:00AM-8:00PM<br />ADULTS: $20<br />KIDS UNDER 12 WITH ADULT: $10<br />PRESCHOOLERS: FREE<br /><br />SUNDAY<br />GROUNDS: 8:00 AM-4:30 PM<br />ARENA: 9:00AM-3:45PM<br />PRES.BUILDING: 10:00AM-3:45PM<br />ADULTS: $10<br />KIDS UNDER 12 WITH ADULT: $5<br />PRESCHOOLERS: FREE<br /><br />Unlimited Midway Ride Bracelets will be available on Sunday only for $25. Midway operates from 11:00 am to 4:00 pm.<br /><br />\n\n</BODY>\n</HTML>

LOCATION:150 Queen St S, Bolton, ON L7E 1B3, Canada
END:VEVENT

END:VCALENDAR
