BEGIN:VCALENDAR
VERSION:2.0
PRODID:-//hacksw/handcal//NONSGML v1.0//EN
BEGIN:VEVENT
UID:82c7b238666021ddf66dfdb87e547ecb
DTSTAMP:20260422T090700Z

DTSTART:20220902T150000
DTEND:20220905T180000
SUMMARY:154th Saanich Fair 2022 
DESCRIPTION:COME ONE COME ALL TO THE 154TH SAANICH FAIR\n\nThis year's theme is "Plant Your Roots at the Fair" Promoting Vegetables!\n\nAdmission\nAdults (14 years of age and older): $15\nYouth (7-13 years): $12\nSeniors (over 65 years): $12\nAges 6 years and under: FREE! (No Ticket Required)\n\nThere will be First Nations Dancers and Drummers, a  Highland Dance competition, Ukranian Dancers, magicians, ice cream contest, a pie eating contest, pumpkin weigh-in, and artists to entertain you such as Chris Millington (6 PM September 3), Born Reckless (8 PM September 3), The Midnights (4:30 PM September 4) Brett Smith-Daniels (6 PM September 4), Wide Mouth Mason (8:00 PM, September 4) and Soul Shakers (3 PM September 5).\n\nThen there are the spectacular rides at the midway and what would a country fair be without animals and vegetables!\n\nThis is a fabulous event for the entire family!

X-ALT-DESC;FMTTYPE=text/html:<!DOCTYPE HTML PUBLIC "-//W3C//DTD HTML 3.2//EN">\n<HTML>\n<HEAD>\n<META NAME="Generator" CONTENT="MS Exchange Server version 08.00.0681.000">\n<TITLE></TITLE>\n</HEAD>\n<BODY>\n<!-- Converted from text/rtf format -->\n\nCOME ONE COME ALL TO THE 154TH SAANICH FAIR<br /><br />This year's theme is "Plant Your Roots at the Fair" Promoting Vegetables!<br /><br />Admission<br />Adults (14 years of age and older): $15<br />Youth (7-13 years): $12<br />Seniors (over 65 years): $12<br />Ages 6 years and under: FREE! (No Ticket Required)<br /><br />There will be First Nations Dancers and Drummers, a  Highland Dance competition, Ukranian Dancers, magicians, ice cream contest, a pie eating contest, pumpkin weigh-in, and artists to entertain you such as Chris Millington (6 PM September 3), Born Reckless (8 PM September 3), The Midnights (4:30 PM September 4) Brett Smith-Daniels (6 PM September 4), Wide Mouth Mason (8:00 PM, September 4) and Soul Shakers (3 PM September 5).<br /><br />Then there are the spectacular rides at the midway and what would a country fair be without animals and vegetables!<br /><br />This is a fabulous event for the entire family!\n\n</BODY>\n</HTML>

LOCATION:1528 Stellys Cross Rd, Saanichton, BC V8M 1S8, Canada
END:VEVENT

END:VCALENDAR
