BEGIN:VCALENDAR
VERSION:2.0
PRODID:-//hacksw/handcal//NONSGML v1.0//EN
BEGIN:VEVENT
UID:8cbbaf58728fb364f86793734ed17c46
DTSTAMP:20260423T204208Z

DTSTART:20220909T180000
DTEND:20220911T190000
SUMMARY:Taste of the Kingsway 2022
DESCRIPTION:Get together with friends and family for a memorable weekend!\n\nTaste of The Kingsway is South Etobicoke's largest street festival with a legacy of over 20 years. After a 2 year hiatus, this much loved event is back for 2022 bringing three days of non stop entertainment, international cuisine and activities for the whole family to enjoy.\n\nThe festival will feature 3 stages with performances from the city’s best bands and local talent, diverse culinary offerings, Super Dogs Show, meet and greet with NFL Alumni, licensed patios for the adults, midway rides and games including a Ferris wheel, kids activities, street performers and so much more all along Bloor Street West & Royal York (Prince Edward St to Montgomery St).\n\nTaste of The Kingsway is proud to support Campfire Circle – a non-profit oncology camp that supports kids and families affected by childhood cancer.\n\nEvents:\nREMAX Professionals Main Stage at Montgomery\nTD Humbervale Stage\nThe Kingsway BIA Community Stage brought to you by Footloose Dancewear & Sean Boutilier Academy of Dance\nGreat Lakes Brewery Beverage Garden\nScotiabanks Annual Dog Show & NHL Alumni signing\nDr. Oetker Pizza Zone\nRoyal LePage Fun Zone\nKandy Media & Design Selfie Wall - Participate and get the chance to win 2 tickets to see The Weekend\nSuper Dogs show by The Kingsway BIA & Beaulieu Vision Care\nClassic Car Show

X-ALT-DESC;FMTTYPE=text/html:<!DOCTYPE HTML PUBLIC "-//W3C//DTD HTML 3.2//EN">\n<HTML>\n<HEAD>\n<META NAME="Generator" CONTENT="MS Exchange Server version 08.00.0681.000">\n<TITLE></TITLE>\n</HEAD>\n<BODY>\n<!-- Converted from text/rtf format -->\n\nGet together with friends and family for a memorable weekend!<br /><br />Taste of The Kingsway is South Etobicoke's largest street festival with a legacy of over 20 years. After a 2 year hiatus, this much loved event is back for 2022 bringing three days of non stop entertainment, international cuisine and activities for the whole family to enjoy.<br /><br />The festival will feature 3 stages with performances from the city’s best bands and local talent, diverse culinary offerings, Super Dogs Show, meet and greet with NFL Alumni, licensed patios for the adults, midway rides and games including a Ferris wheel, kids activities, street performers and so much more all along Bloor Street West & Royal York (Prince Edward St to Montgomery St).<br /><br />Taste of The Kingsway is proud to support Campfire Circle – a non-profit oncology camp that supports kids and families affected by childhood cancer.<br /><br />Events:<br />REMAX Professionals Main Stage at Montgomery<br />TD Humbervale Stage<br />The Kingsway BIA Community Stage brought to you by Footloose Dancewear & Sean Boutilier Academy of Dance<br />Great Lakes Brewery Beverage Garden<br />Scotiabanks Annual Dog Show & NHL Alumni signing<br />Dr. Oetker Pizza Zone<br />Royal LePage Fun Zone<br />Kandy Media & Design Selfie Wall - Participate and get the chance to win 2 tickets to see The Weekend<br />Super Dogs show by The Kingsway BIA & Beaulieu Vision Care<br />Classic Car Show\n\n</BODY>\n</HTML>

LOCATION:Royal York Rd & Bloor St W, Toronto, ON M8X 1C3, Canada
END:VEVENT

END:VCALENDAR
