BEGIN:VCALENDAR
VERSION:2.0
PRODID:-//hacksw/handcal//NONSGML v1.0//EN
BEGIN:VEVENT
UID:712ab54ba0580118686e62430a555520
DTSTAMP:20260422T173550Z

DTSTART:20221002T090000
DTEND:20221002T170000
SUMMARY:2022 Salt Spring Island Apple Festival
DESCRIPTION:2022 Annual Salt Spring Island Apple Festival\n\nCome celebrate Apple Diversity and test your skills at becoming an Apple Connoisseur!\n\nPRICE: Adults - $10, Student - $5, Kids - free\n\nThis is the best apple festival in Canada, over 350 organic apple varieties will be on display at the Fulford Harbour  Hall, some are exclusive to the island. Salt Spring's apple history dates back to 1860 and dozens of participating orchards, farms and cideries will be opening their doors to welcome festival goers. This is a great opportunity to learn about producing organic food, apple varieties and of course apple and cider tasting. Festival goers will be given a map to explore the farms at leisure. In past years boxed lunches were also available at the farms, along with apple pie.\n\nGetting to Salt Spring Island\nhttps://saltspringmarket.com

X-ALT-DESC;FMTTYPE=text/html:<!DOCTYPE HTML PUBLIC "-//W3C//DTD HTML 3.2//EN">\n<HTML>\n<HEAD>\n<META NAME="Generator" CONTENT="MS Exchange Server version 08.00.0681.000">\n<TITLE></TITLE>\n</HEAD>\n<BODY>\n<!-- Converted from text/rtf format -->\n\n2022 Annual Salt Spring Island Apple Festival<br /><br />Come celebrate Apple Diversity and test your skills at becoming an Apple Connoisseur!<br /><br />PRICE: Adults - $10, Student - $5, Kids - free<br /><br />This is the best apple festival in Canada, over 350 organic apple varieties will be on display at the Fulford Harbour  Hall, some are exclusive to the island. Salt Spring's apple history dates back to 1860 and dozens of participating orchards, farms and cideries will be opening their doors to welcome festival goers. This is a great opportunity to learn about producing organic food, apple varieties and of course apple and cider tasting. Festival goers will be given a map to explore the farms at leisure. In past years boxed lunches were also available at the farms, along with apple pie.<br /><br />Getting to Salt Spring Island<br />https://saltspringmarket.com\n\n</BODY>\n</HTML>

LOCATION:2591 Fulford-Ganges Rd, Salt Spring Island, BC V8K 1Z4, Canada
END:VEVENT

END:VCALENDAR
